BEGIN:VCALENDAR
VERSION:2.0
PRODID:-//S.A.G.E. Holistic Health and Wellness Center - ECPv6.15.20//NONSGML v1.0//EN
CALSCALE:GREGORIAN
METHOD:PUBLISH
X-ORIGINAL-URL:https://sagewellnessctr.org
X-WR-CALDESC:Events for S.A.G.E. Holistic Health and Wellness Center
REFRESH-INTERVAL;VALUE=DURATION:PT1H
X-Robots-Tag:noindex
X-PUBLISHED-TTL:PT1H
BEGIN:VTIMEZONE
TZID:America/Los_Angeles
BEGIN:DAYLIGHT
TZOFFSETFROM:-0800
TZOFFSETTO:-0700
TZNAME:PDT
DTSTART:20210314T100000
END:DAYLIGHT
BEGIN:STANDARD
TZOFFSETFROM:-0700
TZOFFSETTO:-0800
TZNAME:PST
DTSTART:20211107T090000
END:STANDARD
BEGIN:DAYLIGHT
TZOFFSETFROM:-0800
TZOFFSETTO:-0700
TZNAME:PDT
DTSTART:20220313T100000
END:DAYLIGHT
BEGIN:STANDARD
TZOFFSETFROM:-0700
TZOFFSETTO:-0800
TZNAME:PST
DTSTART:20221106T090000
END:STANDARD
BEGIN:DAYLIGHT
TZOFFSETFROM:-0800
TZOFFSETTO:-0700
TZNAME:PDT
DTSTART:20230312T100000
END:DAYLIGHT
BEGIN:STANDARD
TZOFFSETFROM:-0700
TZOFFSETTO:-0800
TZNAME:PST
DTSTART:20231105T090000
END:STANDARD
END:VTIMEZONE
BEGIN:VEVENT
DTSTART;TZID=America/Los_Angeles:20221009T190000
DTEND;TZID=America/Los_Angeles:20221009T220000
DTSTAMP:20260422T044319
CREATED:20220921T202320Z
LAST-MODIFIED:20220921T202324Z
UID:5263-1665342000-1665352800@sagewellnessctr.org
SUMMARY:HHOC Full Moon Drum Circle - Laguna Beach
DESCRIPTION:Another beautiful cycle has completed\, and we are calling all of the HHOC community to come together\, to honor and reflect- and bask in the radiant energy of the full moon. Bring a drum\, djembe\, congos\, whatever drum you have\, a tasty treat to share and your dancing spirit…Bring a healer friend to invite them into our group – or just bring anybody (non-healer) to have some fun. \n\n\n\nPlease RSVP for this event\, and have a festive\, powerful night together! \n\n\n\nPCH just South of the Montage Resort. \n\n\n\nFree Community Event! \n\n\n\n\nLaguna Beach Full Moon Drum Circle Guide For 2022
URL:https://sagewellnessctr.org/event/hhoc-full-moon-drum-circle-laguna-beach/
LOCATION:Laguna Beach\, 31131 S Coast Hwy\, Laguna Beach\, California\, 92651\, United States
END:VEVENT
BEGIN:VEVENT
DTSTART;TZID=America/Los_Angeles:20221019T093000
DTEND;TZID=America/Los_Angeles:20221019T113000
DTSTAMP:20260422T044319
CREATED:20220919T222328Z
LAST-MODIFIED:20220927T215501Z
UID:5221-1666171800-1666179000@sagewellnessctr.org
SUMMARY:HHOC October Monthly Gathering
DESCRIPTION:Join us for the monthly gathering of the Holistic Healers of OC. We have incredible presentations this month and as always\, the connection is true and deep with this group as we gather and abundantly share space with each other. \n\n\n\nIf it’s not already\, this group will be your favorite place to: \n\n\n\n-Connect with other like-minded holistic professionals & build your professional relationships \n\n\n\n-Learn about different holistic healing modalities from two of our member presentations \n\n\n\n-Share what is going on with your business by way of announcements \n\n\n\nSpeaker: \n\n\n\nAnna Hornbostel- Licensed Marriage and Family Therapist and TBRI Practitioner \n\n\n\nPresenting: \n\n\n\nThe To Knows and To Dos of Reproductive Trauma  \n\n\n\nWith the recent Roe v Wade ruling impacting so many\, this overview will give practical information and guidance to provide best care for those we encounter both personally and professionally experiencing the intricacies and complexities of reproductive trauma. \n\n\n\nWe will see you there! \n\n\n\nThis event is for HHOC members only. Please enquire at hhoc@sagewellnessctr.org if you need to get connected\, or join this S.A.G.E. Program by clicking HERE \n\n\n\nDirections/Special instructions:  \n\n\n\nDue to ongoing Covid-19 we will be providing current guidelines at the time of your class to ensure the health and safety of all of S.A.G.E.’s patrons. \n\n\n\nREFUND POLICY: \n\n\n\nNo refunds will be issues if canceling less than 72 hours prior to the event. Please review our Refund/Cancellation Policy for classes/events with any further questions.  \n\n\n\nDISCLAIMER: \n\n\n\nS.A.G.E Holistic Health and Wellness Center\, associates\, coordinators\, volunteers\, employees\, and any other affiliates do not take responsibility for any harm\, bodily injury\, accidents\, or damage to personal property. By “Booking” your spot or by “RSVP”ing or attending\, you are confirming that you understand that all activities such as Yoga\, meditation\, Martial Arts\, Self Defense\, hiking\, and Reiki\, Group Therapy\, etc. have an associated risk\, and will not hold any S.A.G.E Holistic Health and Wellness Center\, associates\, coordinators\, volunteers\, employees\, and any other affiliates responsible for any hazard to your well-being. Additionally\, you will not be allowed to participate with the group if you are not adequately prepared with enough water\, the right gear\, equipment\, and/or nutrition essential to complete the event. \n\n\n\nPHOTO/VIDEO CONSENT WAIVER: \n\n\n\nBy Attending our event you grant permission to S.A.G.E Holistic Health and Wellness Center to use photographs and/ or video taken of you during this event for use in publications\, website\, and other forms of media without notifying you. You hereby waive any right to inspect or approve the finished photographs or printed electronic matter that may be used in conjunction with them now or in the future\, whether that use is known to you or unknown\, and you waive any right to royalties or other compensation arising from or related to the use of the photograph(s) and/ or video. 
URL:https://sagewellnessctr.org/event/hhoc-october-monthly-gathering/
LOCATION:The Original Pancake House\, 3322 E Chapman Ave\, Orange\, CA\, 92869
END:VEVENT
BEGIN:VEVENT
DTSTART;TZID=America/Los_Angeles:20221023T090000
DTEND;TZID=America/Los_Angeles:20221023T163000
DTSTAMP:20260422T044319
CREATED:20220919T223305Z
LAST-MODIFIED:20220919T223319Z
UID:5229-1666515600-1666542600@sagewellnessctr.org
SUMMARY:REIKI Level 3 | Advanced Reiki Training {ART}
DESCRIPTION:CLASS OBJECTIVES: \n\n\n\nThis Training Course is divided into 2 sections: 1) Reiki Level 3\, and 2) Advanced Reiki Training {ART}. \n\n\n\nREIKI Level 3 COURSE OBJECTIVES: \n\n\n\nDuring the Reiki Level 3 portion of the course\, you will: \n\n\n\nBe attuned to 4 new symbols that include learning information for: \n\n\n\nBalancing chakras \n\n\n\n2 symbols that assist in spiritual healing (e.g.\, healing your relationship with Spirit/God) \n\n\n\nAssisting souls who have died to easily cross to the Light \n\n\n\nADVANCED REIKI TRAINING {ART} COURSE OBJECTIVES: \n\n\n\nDuring this part of the Training Course\, you will be taught many different healing and non-healing techniques that utilize the healing Reiki energy.  These techniques include: \n\n\n\nHow to use a pendulum to assess the health of chakras (i.e.\, assessing whether chakras are balanced and clear of toxic energy?) \n\n\n\nUsing Reiki to: \n\n\n\nBalance and clear chakrasConduct house cleansings/blessingsManifest your desiresCreate 4th dimensional grids to empower and protect objects/locationsReiki meditation techniques that enhance your ability to be a clear channel of “life force energy”\n\n\n\nREIKI Level 3 | ADVANCED REIKI TRAINING {ART} INCLUDES: \n\n\n\nA professionally prepared 46-page manual.In-person instruction and time for questionsAttunement to one (1) Usui Reiki symbol\, two (2) Tibetan Reiki symbols\, and one (1) non-traditional Reiki symbolTime to practice your new skills (e.g.\, using a pendulum to assess the health and balance of chakras and then using a Reiki technique to work on any problems that are discovered).A “Certificate of Completion” verifying that you are a Reiki Level 3 Practitioner and have participated in an Advanced Reiki Training {ART} course.Pre-requisite:  Reiki Level 1 & 2\, Training + Certification Course by S.A.G.E. Holistic Health & Wellness Center \n\n\n\n(NOTE:  If you have taken Reiki Level 1 & 2 from another Reiki Master|Teacher\, speak to Emily Celis prior to reserving your spot in class to discuss.) \n\n\n\nDISCLAIMER: \n\n\n\nS.A.G.E Holistic Health and Wellness Center\, associates\, coordinators\, volunteers\, employees\, and any other affiliates do not take responsibility for any harm\, bodily injury\, accidents\, or damage to personal property. By “Booking” your spot\, clicking “RSVP\,” or attending the hike\, you are confirming that you understand that all activities such as Yoga\, meditation\, Martial Arts\, Self Defense\, hiking\, and Reiki have an associated risk\, and will not hold any S.A.G.E Holistic Health and Wellness Center\, associates\, coordinators\, volunteers\, employees\, and any other affiliates responsible for any hazard to your well-being. Additionally\, you will not be allowed to participate with the group if you are not adequately prepared with enough water\, the right gear\, equipment\, and/or nutrition essential to complete the event. \n\n\n\nPHOTO/VIDEO CONSENT WAIVER: \n\n\n\nBy Attending our event you grant permission to S.A.G.E Holistic Health and Wellness Center to use photographs and/ or video taken of you during this event for use in publications\, website\, and other forms of media without notifying you. You hereby waive any right to inspect or approve the finished photographs or printed electronic matter that may be used in conjunction with them now or in the future\, whether that use is known to you or unknown\, and you waive any right to royalties or other compensation arising from or related to the use of the photograph(s) and/ or video.
URL:https://sagewellnessctr.org/event/reiki-level-3-advanced-reiki-training-art-2/
LOCATION:14081 Yorba Street\, Suite 105\, Tustin\, CA 92780
END:VEVENT
BEGIN:VEVENT
DTSTART;TZID=America/Los_Angeles:20221023T183000
DTEND;TZID=America/Los_Angeles:20221023T200000
DTSTAMP:20260422T044319
CREATED:20220822T233742Z
LAST-MODIFIED:20220927T215200Z
UID:5103-1666549800-1666555200@sagewellnessctr.org
SUMMARY:S.A.G.E. Smudge + Guided Meditation + Reiki
DESCRIPTION:Join us for this fun event– an evening of relaxation and de-stressing as we set our intention for the week. The evening begins with a ceremonial S.A.G.E. smudge to clear away any stagnant or “negative” energies\, followed by a guided chakra (energy center) meditation and Reiki healing. Whether you meditate on the regular or just beginning\, this evening is designed to bring in the positive to your life and let go of what does not serve you any longer. \n\n\n\nVirtual event is free but you must register HERE \n\n\n\nInstructor:  Emily Celis\, M.S.\, LMFT\, Reiki Master  \n\n\n\nSpecial Information: Show up comfortable and with your screen on. Bring a candle\, incense\, sage bundle or palo santo if you wish to start off the evening.
URL:https://sagewellnessctr.org/event/s-a-g-e-smudge-guided-meditation-reiki-2/
END:VEVENT
END:VCALENDAR