BEGIN:VCALENDAR
VERSION:2.0
PRODID:-//S.A.G.E. Holistic Health and Wellness Center - ECPv6.15.20//NONSGML v1.0//EN
CALSCALE:GREGORIAN
METHOD:PUBLISH
X-WR-CALNAME:S.A.G.E. Holistic Health and Wellness Center
X-ORIGINAL-URL:https://sagewellnessctr.org
X-WR-CALDESC:Events for S.A.G.E. Holistic Health and Wellness Center
REFRESH-INTERVAL;VALUE=DURATION:PT1H
X-Robots-Tag:noindex
X-PUBLISHED-TTL:PT1H
BEGIN:VTIMEZONE
TZID:America/Los_Angeles
BEGIN:DAYLIGHT
TZOFFSETFROM:-0800
TZOFFSETTO:-0700
TZNAME:PDT
DTSTART:20210314T100000
END:DAYLIGHT
BEGIN:STANDARD
TZOFFSETFROM:-0700
TZOFFSETTO:-0800
TZNAME:PST
DTSTART:20211107T090000
END:STANDARD
BEGIN:DAYLIGHT
TZOFFSETFROM:-0800
TZOFFSETTO:-0700
TZNAME:PDT
DTSTART:20220313T100000
END:DAYLIGHT
BEGIN:STANDARD
TZOFFSETFROM:-0700
TZOFFSETTO:-0800
TZNAME:PST
DTSTART:20221106T090000
END:STANDARD
BEGIN:DAYLIGHT
TZOFFSETFROM:-0800
TZOFFSETTO:-0700
TZNAME:PDT
DTSTART:20230312T100000
END:DAYLIGHT
BEGIN:STANDARD
TZOFFSETFROM:-0700
TZOFFSETTO:-0800
TZNAME:PST
DTSTART:20231105T090000
END:STANDARD
END:VTIMEZONE
BEGIN:VEVENT
DTSTART;TZID=America/Los_Angeles:20220811T190000
DTEND;TZID=America/Los_Angeles:20220811T194500
DTSTAMP:20260422T071257
CREATED:20220809T205649Z
LAST-MODIFIED:20220809T205653Z
UID:5070-1660244400-1660247100@sagewellnessctr.org
SUMMARY:Holistic Hangout - "Inner Knowing"
DESCRIPTION:Can I get a woot woot? We get to hangout and I am SO excited to spend some time with our amazing S.A.G.E. community where we get to relax into some fun convos and set some intentions for the month ahead. Think of our Holistic Hangouts like a big campfire conversation where we are getting to know each other and just BEING. You’ll receive a downloadable worksheet that you can use to keep track of what comes up during this awesome event and we hope you’ll invite a friend and come hang out! \n\n\n\nMust RSVP in our private community to join \n\n\n\nhttps://sagewellness.circle.so/c/events/holistic-hangout-46efa5
URL:https://sagewellnessctr.org/event/holistic-hangout-inner-knowing/
END:VEVENT
BEGIN:VEVENT
DTSTART;TZID=America/Los_Angeles:20220817T090000
DTEND;TZID=America/Los_Angeles:20220817T110000
DTSTAMP:20260422T071257
CREATED:20220804T134632Z
LAST-MODIFIED:20220809T204810Z
UID:5047-1660726800-1660734000@sagewellnessctr.org
SUMMARY:HHOC August Gathering
DESCRIPTION:Join us for the monthly gathering of the Holistic Healersof OC- where you can find a group of like minded Souls\, all looking to connectand co-create some magic… All while eating delicious waffles! This is theperfect place to refill your own cup\, and expand your mind. \n\n\n\nOur Amazing Speakers This Month:Ashley Levin\, LCSW \n\n\n\nLet’s Play: Healing your Inner ChildLearn about how inner child wounds affect adult life and how to heal through play. \n\n\n\nAmy St. Hilaire \n\n\n\nReclaiming Your Happy: Key Elements of Trauma and 3 Mind-Body Release Tools \n\n\n\nWhat do we do? \n\n\n\nFun networking activityMember PresentationsAnnouncements for your business\n\n\n\nHHOC is your favorite Orange County hangout and we love connecting healersand helpers with each other; you’ll also learn about different holistic-mindedhealing modalities and also be able to share what’s going on with your business. \n\n\n\nCan’t wait to see you there! \n\n\n\nThis event is for HHOC members only. Please enquire athhoc@sagewellnessctr.org if you need to get connected\, or join this S.A.G.E.program by clicking HERE.
URL:https://sagewellnessctr.org/event/hhoc-august-gathering/
LOCATION:The Original Pancake House\, 3322 E Chapman Ave\, Orange\, CA\, 92869
END:VEVENT
BEGIN:VEVENT
DTSTART;TZID=America/Los_Angeles:20220828T090000
DTEND;TZID=America/Los_Angeles:20220828T163000
DTSTAMP:20260422T071257
CREATED:20220728T181844Z
LAST-MODIFIED:20220824T020119Z
UID:5032-1661677200-1661704200@sagewellnessctr.org
SUMMARY:Reiki Level 1 Training + Certification Course
DESCRIPTION:Get trained and certified in Reiki! Learn how to tap into your innate healing power\, deepen your spirituality and expand your intuition. After this first class you will be ready to conduct your own Reiki healing sessions and even begin working as a Certified Reiki Practitioner. \n\n*More details below.\n\nDate: Sunday\, August 28\, 2022\n\nTime: 9:00am – 4:30pm (30 min break for lunch)\n\nInstructor:  Emily Celis\, MS\, LMFT\, Reiki Master|Teacher\n\nCost:  $175\n\n \n\nMore instructions for this course will be sent after registration is complete and one week prior to class date.\n\n \n\nOFFICE LOCATION + COVID PROCEDURES\n14081 Yorba Street\, Tustin\, CA 92780\n\nThe office is conveniently located in Tustin right off the 55 freeway on 17th Street. You’ll find us in the Enderle Center directly across the street from the bright red restaurant “Crab Cooker”.  Ample parking is available on either side of our building. Specific instructions for where to go in the building will be provided upon registration prior to the start of class.\n\n \n\nDue to the continuing global pandemic we will be providing current guidelines at the time of your class to ensure the health and safety of all of S.A.G.E.’s patrons.\n\n\n\nMore about Reiki Level 1 + Reiki in general: \n\nREIKI 1 CLASS OBJECTIVES: During this 1-time workshop\, you will: \n\n* Learn about what Reiki is\, how it is used\, and what it feels like \n\n* Discuss how to protect yourself during healing sessions \n\n* Explore Reiki’s guiding principles \n\n* Learn about the history of Reiki \n\n* Be taught how to conduct healing sessions \n\n* Be attuned to 1 Reiki symbol\, which is used to turn on and turn off the flow of Reiki energy \n\n* Receive your Reiki guide\, which is a spiritual helper on the other side who will assist you with your healings \n\n* Practice using your new healing abilities \n\nREIKI 1 COURSE INCLUDES: \n\n* Professionally prepared 85-page manual \n\n* In-person instruction with time for questions \n\n* Attunement to 1 Reiki symbol \n\n* Time to practice your new skills \n\n* A “Certificate of Completion” verifying that you are a Reiki I Practitioner\, which makes you eligible to offer Reiki healing sessions to the public for a fee\, if you choose to do so.\n\n \n\n————-\n\n \n\nWhat is Reiki? Reiki is a form of “energetic” healing that works harmoniously with all other forms of treatment (e.g. medical\, psychological\, alternative\, etc.). Many philosophical/religious systems and even some branches of science now understand that there is an unseen energy that flows through all living things. This energy is believed to be around us all the time and is believed to be what creates and sustains life. The word Reiki is composed of two different Japanese words: “rei” is generally translated as “universal”\, “God”\, “soul”\, or “spiritual” and the word “ki” is translated as “energy” or “life force”. Therefore\, Reiki represents the “life force energy” and the source of that energy is spiritual. How does Reiki work? It is a simple and powerful healing technique that works to balance out the energy system of the body which often leads to improvements in health\, increased relaxation and improved wellbeing. If someone’s “life force energy” is low or blocked\, then they are more likely to become ill. If it is high and flowing smoothly through the body (i.e.\, through the meridians)\, then the person is more resilient to disease and is happier. The goal of balancing the person’s energy is similar to that of acupuncturists or acupressurists\, however\, with Reiki\, the Practitioner does not necessarily need to touch the body…it can be done either “hands on” or “hands off”. It does not require any special equipment or environment.\n\n \n\nDISCLAIMER:\nS.A.G.E Holistic Health and Wellness Center\, associates\, coordinators\, volunteers\, employees\, and any other affiliates do not take responsibility for any harm\, bodily injury\, accidents\, or damage to personal property. By “Booking” your spot or by “RSVP”ing or attending the hike\, you are confirming that you understand that all activities such as Yoga\, meditation\, Martial Arts\, Self Defense\, hiking\, and Reiki have an associated risk\, and will not hold any S.A.G.E Holistic Health and Wellness Center\, associates\, coordinators\, volunteers\, employees\, and any other affiliates responsible for any hazard to your well-being. Additionally\, you will not be allowed to participate with the group if you are not adequately prepared with enough water\, the right gear\, equipment\, and/or nutrition essential to complete the event.\n\n\nPHOTO/VIDEO CONSENT WAIVER:\n\nBy Attending our event you grant permission to S.A.G.E Holistic Health and Wellness Center to use photographs and/ or video taken of you during this event for use in publications\, website\, and other forms of media without notifying you. You hereby waive any right to inspect or approve the finished photographs or printed electronic matter that may be used in conjunction with them now or in the future\, whether that use is known to you or unknown\, and you waive any right to royalties or other compensation arising from or related to the use of the photograph(s) and/ or video.
URL:https://sagewellnessctr.org/event/reiki-level-1-training-certification-course-5/
LOCATION:14081 Yorba Street\, Suite 105\, Tustin\, CA 92780
ORGANIZER;CN="SAGE Holistic Health and Wellness":MAILTO:info@sagewellnessctr.org
END:VEVENT
BEGIN:VEVENT
DTSTART;TZID=America/Los_Angeles:20220828T183000
DTEND;TZID=America/Los_Angeles:20220828T203000
DTSTAMP:20260422T071257
CREATED:20220808T180050Z
LAST-MODIFIED:20220808T180305Z
UID:5056-1661711400-1661718600@sagewellnessctr.org
SUMMARY:S.A.G.E. Smudge + Guided Meditation + Reiki
DESCRIPTION:Join us for this fun event– an evening of relaxation and de-stressing as we set our intention for the week. The evening begins with a ceremonial S.A.G.E. smudge to clear away any stagnant or “negative” energies\, followed by a guided chakra (energy center) meditation and Reiki healing. Whether you meditate on the regular or just beginning\, this evening is designed to bring in the positive to your life and let go of what does not serve you any longer. \n\n\n\nEvent is free but you must register HERE. \n\n\n\nInstructor:  Emily Celis\, M.S.\, LMFT\, Reiki Master  \n\n\n\nLevel: Beginner \n\n\n\nSpecial Information:Show up comfortable and with your screen on. Bring a candle\, incense\, sage bundle or palo santo if you wish to start off the evening.
URL:https://sagewellnessctr.org/event/s-a-g-e-smudge-guided-meditation-reiki/
END:VEVENT
BEGIN:VEVENT
DTSTART;TZID=America/Los_Angeles:20220829T190000
DTEND;TZID=America/Los_Angeles:20220829T194500
DTSTAMP:20260422T071257
CREATED:20220809T205429Z
LAST-MODIFIED:20220809T205434Z
UID:5067-1661799600-1661802300@sagewellnessctr.org
SUMMARY:Holistic Training - The Basics of Why Body Movement is So Important
DESCRIPTION:Join us for our FREE monthly holistic training where you get to jump into a zoom room with like-minded folx and get focused on your next steps for living a holistic lifestyle. There will be a downloadable workbook with actionable steps for you to start implementing these tools right away so you can get busy living fully! \n\n\n\nWe can’t wait to get together with you! Invite a friend and we’ll see you there! \n\n\n\nMust RSVP in our private community to join: \n\n\n\nhttps://sagewellness.circle.so/c/events/holistic-training-19e3d0
URL:https://sagewellnessctr.org/event/holistic-training-the-basics-of-why-body-movement-is-so-important/
END:VEVENT
END:VCALENDAR