BEGIN:VCALENDAR
VERSION:2.0
PRODID:-//S.A.G.E. Holistic Health and Wellness Center - ECPv6.15.20//NONSGML v1.0//EN
CALSCALE:GREGORIAN
METHOD:PUBLISH
X-WR-CALNAME:S.A.G.E. Holistic Health and Wellness Center
X-ORIGINAL-URL:https://sagewellnessctr.org
X-WR-CALDESC:Events for S.A.G.E. Holistic Health and Wellness Center
REFRESH-INTERVAL;VALUE=DURATION:PT1H
X-Robots-Tag:noindex
X-PUBLISHED-TTL:PT1H
BEGIN:VTIMEZONE
TZID:America/Los_Angeles
BEGIN:DAYLIGHT
TZOFFSETFROM:-0800
TZOFFSETTO:-0700
TZNAME:PDT
DTSTART:20210314T100000
END:DAYLIGHT
BEGIN:STANDARD
TZOFFSETFROM:-0700
TZOFFSETTO:-0800
TZNAME:PST
DTSTART:20211107T090000
END:STANDARD
BEGIN:DAYLIGHT
TZOFFSETFROM:-0800
TZOFFSETTO:-0700
TZNAME:PDT
DTSTART:20220313T100000
END:DAYLIGHT
BEGIN:STANDARD
TZOFFSETFROM:-0700
TZOFFSETTO:-0800
TZNAME:PST
DTSTART:20221106T090000
END:STANDARD
BEGIN:DAYLIGHT
TZOFFSETFROM:-0800
TZOFFSETTO:-0700
TZNAME:PDT
DTSTART:20230312T100000
END:DAYLIGHT
BEGIN:STANDARD
TZOFFSETFROM:-0700
TZOFFSETTO:-0800
TZNAME:PST
DTSTART:20231105T090000
END:STANDARD
END:VTIMEZONE
BEGIN:VEVENT
DTSTART;TZID=America/Los_Angeles:20220420T090000
DTEND;TZID=America/Los_Angeles:20220420T110000
DTSTAMP:20260424T033157
CREATED:20220322T015703Z
LAST-MODIFIED:20220419T221402Z
UID:4536-1650445200-1650452400@sagewellnessctr.org
SUMMARY:HHOC April Gathering
DESCRIPTION:Location: **Location Change**\nThe Original Pancake House\n3322 E Chapman Ave\nOrange\, CA 92869\n \nDescription: Join us for the monthly gathering of the Holistic Healers of OC. We have incredible presentations this month and as always\, the connection is true and deep with this group as we gather and abundantly share space with each other. \n  \nPresenting: \n\nShelby Mirrotto\, Health Coach / Fitness Nutrition Specialist \nMorgyn Danae\, Somatic Coach\, Spiritual Guide\, LMT\, CES\, CPT \n\n  \nIf it’s not already\, this group will be your favorite place to: \n-Connect with other like-minded holistic professionals & build your professional relationships \n-Learn about different holistic healing modalities from two of our member presentations \n-Share what is going on with your business by way of announcements \n  \nWe will see you there! \n  \nThis event is for HHOC members only. Please enquire at hhoc@sagewellnessctr.org if you need to get connected\, or join this S.A.G.E. program by clicking HERE. \n  \nDISCLAIMER:\nS.A.G.E Holistic Health and Wellness Center\, associates\, coordinators\, volunteers\, employees\, and any other affiliates do not take responsibility for any harm\, bodily injury\, accidents\, or damage to personal property. By “Booking” your spot or by “RSVP”ing or attending\, you are confirming that you understand that all activities such as Yoga\, meditation\, Martial Arts\, Self Defense\, hiking\, and Reiki\, Group Therapy\, etc. have an associated risk\, and will not hold any S.A.G.E Holistic Health and Wellness Center\, associates\, coordinators\, volunteers\, employees\, and any other affiliates responsible for any hazard to your well-being. Additionally\, you will not be allowed to participate with the group if you are not adequately prepared with enough water\, the right gear\, equipment\, and/or nutrition essential to complete the event. \n  \nPHOTO/VIDEO CONSENT WAIVER: \nBy Attending our event you grant permission to S.A.G.E Holistic Health and Wellness Center to use photographs and/ or video taken of you during this event for use in publications\, website\, and other forms of media without notifying you. You hereby waive any right to inspect or approve the finished photographs or printed electronic matter that may be used in conjunction with them now or in the future\, whether that use is known to you or unknown\, and you waive any right to royalties or other compensation arising from or related to the use of the photograph(s) and/ or video.
URL:https://sagewellnessctr.org/event/hhoc-april-gathering/
LOCATION:The Original Pancake House\, 3322 E Chapman Ave\, Orange\, CA\, 92869
ORGANIZER;CN="SAGE Holistic Health and Wellness":MAILTO:info@sagewellnessctr.org
END:VEVENT
BEGIN:VEVENT
DTSTART;TZID=America/Los_Angeles:20220423T090000
DTEND;TZID=America/Los_Angeles:20220423T163000
DTSTAMP:20260424T033157
CREATED:20220221T162151Z
LAST-MODIFIED:20220221T162151Z
UID:4383-1650704400-1650731400@sagewellnessctr.org
SUMMARY:Self Defense for Professional Helpers and Healers - Level 1 Training + Certification
DESCRIPTION:This dynamically taught 7-hour course is designed specifically for professional helpers + healers (clinical therapists\, massage therapists\, nurses\, doctors\, acupuncturists\, psychiatrists\, office staff\, etc.).  \nThis training and certification course covers imperative personal safety information and tools to develop mindset\, awareness\, confidence and effective skills to protect yourself in various situations. \n \nCourse instructor\, Joseph Celis\, MS\, CSCS\, is former law enforcement and has over 25 years’ experience in self-defense\, martial arts\, and in teaching practical skills for personal safety. Joseph utilizes his knowledge and experience with an effective teaching method and approach that reaches all through his calm and helpful demeanor where no question is left unanswered and you leave class feeling as though you have an ally on your side for good. \n \nDuring class\, practical knowledge will be learned in an educational setting\, then applied during the tactical and experiential portion of class. Class will convene with each participant having solid knowledge about these concepts: \n \n\n Crime Statistics\n• Self Defense & California Law\n• Situational Awareness\n• Entering & Exiting your office and How to Protect Yourself\n• Proper Police Notification + Ethical Obligation\n• When to Engage and When to Tactically Retreat\n• Self Defense Tools & How to Properly Use Them (OC Spray\, Taser\, Tactical Pen\, etc)\n• Know how to Defend or Escape from the most Commonly Used Positions of Attack \n\n\nIt is never too late to increase your ability to feel empowered in possible situations that could otherwise prove dangerous. \n \nTAKE ACTION & RESERVE YOUR SPOT TODAY!  \n*Students & Pre-Licensed professionals will receive 15% off; email info@sagewellnessctr.org for details on how to get signed up with this discount \n*Minimum of 4 participants required for class to be held \nOFFICE LOCATION + COVID PROCEDURES\n14081 Yorba Street\, Tustin\, CA 92780 \nThe office is conveniently located in Tustin right off the 55 freeway on 17th Street. You’ll find us in the Enderle Center directly across the street from the bright red restaurant “Crab Cooker”.  Ample parking is available on either side of our building. Specific instructions for where to go in the building will be provided upon registration prior to start of class. \n Due to the continuing global pandemic we will be providing current guidelines at the time of your class to ensure the health and safety of all of S.A.G.E.’s patrons. \n  \nDISCLAIMER:\nS.A.G.E Holistic Health and Wellness Center\, associates\, coordinators\, volunteers\, employees\, and any other affiliates do not take responsibility for any harm\, bodily injury\, accidents\, or damage to personal property. By “Booking” your spot or by “RSVP”ing or attending the hike\, you are confirming that you understand that all activities such as Yoga\, meditation\, Martial Arts\, Self Defense\, hiking\, and Reiki have an associated risk\, and will not hold any S.A.G.E Holistic Health and Wellness Center\, associates\, coordinators\, volunteers\, employees\, and any other affiliates responsible for any hazard to your well-being. Additionally\, you will not be allowed to participate with the group if you are not adequately prepared with enough water\, the right gear\, equipment\, and/or nutrition essential to complete the event. \n\nPHOTO/VIDEO CONSENT WAIVER: \nBy Attending our event you grant permission to S.A.G.E Holistic Health and Wellness Center to use photographs and/ or video taken of you during this event for use in publications\, website\, and other forms of media without notifying you. You hereby waive any right to inspect or approve the finished photographs or printed electronic matter that may be used in conjunction with them now or in the future\, whether that use is known to you or unknown\, and you waive any right to royalties or other compensation arising from or related to the use of the photograph(s) and/ or video. \n 
URL:https://sagewellnessctr.org/event/self-defense-for-professional-helpers-and-healers-level-1-training-certification-4/
LOCATION:14081 Yorba Street\, Suite 105\, Tustin\, CA 92780
ORGANIZER;CN="SAGE Holistic Health and Wellness":MAILTO:info@sagewellnessctr.org
END:VEVENT
BEGIN:VEVENT
DTSTART;TZID=America/Los_Angeles:20220424T183000
DTEND;TZID=America/Los_Angeles:20220424T200000
DTSTAMP:20260424T033157
CREATED:20220106T084946Z
LAST-MODIFIED:20220106T084946Z
UID:4169-1650825000-1650830400@sagewellnessctr.org
SUMMARY:S.A.G.E. Smudge\, Chakra Meditation & Reiki Healing:7-chakra series
DESCRIPTION:Have you ever heard of a sage smudge\, chakras or Reiki? We have combined these 3 powerful tools together in this ever-popular and mind-changing event on the last Sunday of each month as a way to step into that new month ahead with stillness and centered focus on your side. \nWe invite you to join Emily Celis\, Founder\, LMFT + Reiki Master|Teacher for a 7-month in depth study and Reiki healing experience of the 7 major chakras.  \nSunday\, April 24th\, from 6:30-8:00pm\, we will study the Heart Chakra. You will be guided through a teaching portion\, chakra meditation and group Reiki healing session with a crystal singing bowl tuned to that chakra for even deeper relaxation and healing energy.  \nWhat is the heart chakra all about? \nOur heart chakra is the 4th chakra and is located in our heart center. It can be represented with the color green and is connected to giving to others\, receiving love/help from others\, emotional power\, being in touch with our emotional world as a way to evolve\, and the power of love. \nThis class will bring focus to this energy center and we will do the work to bring more balance to this chakra and release anything that is no longer serving you. \nThis class is for you if you are ready to more fully understand yourself\, step into more self love\, care and healing\, uplevel your life\, heal and step into that best version of you. \nSeating will be limited so there will be enough space for us to spread out and sit in circle with each other; you are welcome to bring a yoga mat or blanket to get comfortable. We will have folding chairs available. \n  \nDirections/Special instructions:  \nOFFICE LOCATION + COVID PROCEDURES\n14081 Yorba Street\, Suite 105\, Tustin\, CA 92780 \nThe office is conveniently located in Tustin right off the 55 freeway on 17th Street. You’ll find us in the Enderle Center directly across the street from the bright red restaurant “Crab Cooker”.  S.A.G.E. office is located on the ground floor. Ample parking is available on either side of our building.  \nWhen you arrive\, check our Suite 105 for location of class which will either be in the suite next door or upstairs in the conference room.  \nDue to the continuing global pandemic and to ensure the health and safety of all of our clients\, you are required to wear a face mask to our office. \nOnce seated in the classroom\, your instructor will discuss mask-wearing guidelines. As you know\, there are many different opinions about the pandemic\, and here at S.A.G.E.\, we do not discriminate against anybody’s beliefs\, however\, we do need to adhere to these policies and protect our community at large in accordance to the guidelines provided to us by city\, state and government officials. \nDISCLAIMER:\nS.A.G.E Holistic Health and Wellness Center\, associates\, coordinators\, volunteers\, employees\, and any other affiliates do not take responsibility for any harm\, bodily injury\, accidents\, or damage to personal property. By “Booking” your spot or by “RSVP”ing or attending\, you are confirming that you understand that all activities such as Yoga\, meditation\, Martial Arts\, Self Defense\, hiking\, and Reiki\, Group Therapy\, etc. have an associated risk\, and will not hold any S.A.G.E Holistic Health and Wellness Center\, associates\, coordinators\, volunteers\, employees\, and any other affiliates responsible for any hazard to your well-being. Additionally\, you will not be allowed to participate with the group if you are not adequately prepared with enough water\, the right gear\, equipment\, and/or nutrition essential to complete the event. \nPHOTO/VIDEO CONSENT WAIVER: \nBy Attending our event you grant permission to S.A.G.E Holistic Health and Wellness Center to use photographs and/ or video taken of you during this event for use in publications\, website\, and other forms of media without notifying you. You hereby waive any right to inspect or approve the finished photographs or printed electronic matter that may be used in conjunction with them now or in the future\, whether that use is known to you or unknown\, and you waive any right to royalties or other compensation arising from or related to the use of the photograph(s) and/ or video. 
URL:https://sagewellnessctr.org/event/s-a-g-e-smudge-chakra-meditation-reiki-healing7-chakra-series-3/
LOCATION:S.A.G.E. Holistic Health & Wellness Center
ORGANIZER;CN="SAGE Holistic Health and Wellness":MAILTO:info@sagewellnessctr.org
END:VEVENT
END:VCALENDAR