BEGIN:VCALENDAR
VERSION:2.0
PRODID:-//S.A.G.E. Holistic Health and Wellness Center - ECPv6.15.20//NONSGML v1.0//EN
CALSCALE:GREGORIAN
METHOD:PUBLISH
X-WR-CALNAME:S.A.G.E. Holistic Health and Wellness Center
X-ORIGINAL-URL:https://sagewellnessctr.org
X-WR-CALDESC:Events for S.A.G.E. Holistic Health and Wellness Center
REFRESH-INTERVAL;VALUE=DURATION:PT1H
X-Robots-Tag:noindex
X-PUBLISHED-TTL:PT1H
BEGIN:VTIMEZONE
TZID:America/Los_Angeles
BEGIN:DAYLIGHT
TZOFFSETFROM:-0800
TZOFFSETTO:-0700
TZNAME:PDT
DTSTART:20210314T100000
END:DAYLIGHT
BEGIN:STANDARD
TZOFFSETFROM:-0700
TZOFFSETTO:-0800
TZNAME:PST
DTSTART:20211107T090000
END:STANDARD
BEGIN:DAYLIGHT
TZOFFSETFROM:-0800
TZOFFSETTO:-0700
TZNAME:PDT
DTSTART:20220313T100000
END:DAYLIGHT
BEGIN:STANDARD
TZOFFSETFROM:-0700
TZOFFSETTO:-0800
TZNAME:PST
DTSTART:20221106T090000
END:STANDARD
BEGIN:DAYLIGHT
TZOFFSETFROM:-0800
TZOFFSETTO:-0700
TZNAME:PDT
DTSTART:20230312T100000
END:DAYLIGHT
BEGIN:STANDARD
TZOFFSETFROM:-0700
TZOFFSETTO:-0800
TZNAME:PST
DTSTART:20231105T090000
END:STANDARD
END:VTIMEZONE
BEGIN:VEVENT
DTSTART;TZID=America/Los_Angeles:20220206T160000
DTEND;TZID=America/Los_Angeles:20220206T170000
DTSTAMP:20260424T053625
CREATED:20220107T053451Z
LAST-MODIFIED:20220107T053451Z
UID:4191-1644163200-1644166800@sagewellnessctr.org
SUMMARY:Sahaja Yoga Meditation Class
DESCRIPTION:Imagine being able to awaken your spiritual energy and to experience and enjoy the many benefits of meditation almost immediately. Sahaja Meditation\, while sharing many of the fundamentals of traditional meditation techniques\, is unique because of how quickly it can help you achieve self-awareness. \nJoin us (virtually) every Sunday at 4pm PST for this class hosted by Preeti of Sahaja Yoga. \nYou will be emailed the link to join after you register for the class.
URL:https://sagewellnessctr.org/event/sahaja-yoga-meditation-class-19/
LOCATION:Online Class via Zoom
ORGANIZER;CN="SAGE Holistic Health and Wellness":MAILTO:info@sagewellnessctr.org
END:VEVENT
BEGIN:VEVENT
DTSTART;TZID=America/Los_Angeles:20220213T160000
DTEND;TZID=America/Los_Angeles:20220213T170000
DTSTAMP:20260424T053625
CREATED:20220107T053534Z
LAST-MODIFIED:20220107T053534Z
UID:4194-1644768000-1644771600@sagewellnessctr.org
SUMMARY:Sahaja Yoga Meditation Class
DESCRIPTION:Imagine being able to awaken your spiritual energy and to experience and enjoy the many benefits of meditation almost immediately. Sahaja Meditation\, while sharing many of the fundamentals of traditional meditation techniques\, is unique because of how quickly it can help you achieve self-awareness. \nJoin us (virtually) every Sunday at 4pm PST for this class hosted by Preeti of Sahaja Yoga. \nYou will be emailed the link to join after you register for the class.
URL:https://sagewellnessctr.org/event/sahaja-yoga-meditation-class-20/
LOCATION:Online Class via Zoom
ORGANIZER;CN="SAGE Holistic Health and Wellness":MAILTO:info@sagewellnessctr.org
END:VEVENT
BEGIN:VEVENT
DTSTART;TZID=America/Los_Angeles:20220216T090000
DTEND;TZID=America/Los_Angeles:20220216T110000
DTSTAMP:20260424T053625
CREATED:20220127T030251Z
LAST-MODIFIED:20220127T063954Z
UID:4283-1645002000-1645009200@sagewellnessctr.org
SUMMARY:February HHOC Gathering - Virtual
DESCRIPTION:Connect\, Learn & Collaborate\nMember Presentations: \n1. Lisa Rose Lodeski: Blending Reiki with an Intuitive Guidance Session in Your Reiki Practice \n2. Grace Heer: Discover a Radical Source of Grief Relief \nZoom Link provided upon registration \n*Our virtual HHOC meetings are Free to attend\, but we do welcome donations as HHOC is sponsored by our nonprofit and all donations to the program go to expanding HHOC and continuing to help support the community of holistic healers in Orange County. \nIf you feel called\, you can donate here.
URL:https://sagewellnessctr.org/event/february-hhoc-gathering-virtual/
LOCATION:Online Class via Zoom
ORGANIZER;CN="SAGE Holistic Health and Wellness":MAILTO:info@sagewellnessctr.org
END:VEVENT
BEGIN:VEVENT
DTSTART;TZID=America/Los_Angeles:20220220T160000
DTEND;TZID=America/Los_Angeles:20220220T170000
DTSTAMP:20260424T053625
CREATED:20220107T053624Z
LAST-MODIFIED:20220107T053624Z
UID:4197-1645372800-1645376400@sagewellnessctr.org
SUMMARY:Sahaja Yoga Meditation Class
DESCRIPTION:Imagine being able to awaken your spiritual energy and to experience and enjoy the many benefits of meditation almost immediately. Sahaja Meditation\, while sharing many of the fundamentals of traditional meditation techniques\, is unique because of how quickly it can help you achieve self-awareness. \nJoin us (virtually) every Sunday at 4pm PST for this class hosted by Preeti of Sahaja Yoga. \nYou will be emailed the link to join after you register for the class.
URL:https://sagewellnessctr.org/event/sahaja-yoga-meditation-class-21/
LOCATION:Online Class via Zoom
ORGANIZER;CN="SAGE Holistic Health and Wellness":MAILTO:info@sagewellnessctr.org
END:VEVENT
BEGIN:VEVENT
DTSTART;TZID=America/Los_Angeles:20220227T090000
DTEND;TZID=America/Los_Angeles:20220227T160000
DTSTAMP:20260424T053625
CREATED:20220105T035516Z
LAST-MODIFIED:20220105T035516Z
UID:4131-1645952400-1645977600@sagewellnessctr.org
SUMMARY:Reiki Level 2 Training + Certification Course
DESCRIPTION:REIKI 2 CLASS OBJECTIVES: \n  \nDuring this 1-time workshop\, you will: \n\nIncrease your ability to channel Reiki energy by 80% \nLearn and be attuned to 3 new Reiki symbols that focus on: \n\n\nMental healing \nEmotional healing \nIssues from earlier in this lifetime or past life healing \n\n\nLearn and be attuned to the Reiki symbol that allows you to conduct healings from a distance and across time (both past and future) \nPractice using your new symbols during healing sessions \nLearn several healing and non-healing techniques that utilize Reiki energy\, including . . . \n\n\nQuick self healing technique (“Reiki Un-do”) \nTreating headaches \nQuick chair treatments \nProgrammed healings \nClearing and protecting spaces \n\n  \nREIKI 2 COURSE INCLUDES: \n\nProfessionally prepared 30-page manual. \nIn-person instruction with time for questions. \nAttunement to 2 Usui Reiki symbols and 2 non-traditional Reiki symbols. \nTime to practice your new skills. \nA “Certificate of Completion” verifying that you are a Reiki II Practitioner. \n\n  \nThe cost of this class is $295; payable by cash\, check\, or credit card prior to the start of class.  \nPre-requisite:  Reiki Level 1 Training + Certification Course by S.A.G.E. Holistic Health & Wellness Center  \n(NOTE:  If you have taken Reiki Level 1 from another Reiki Master|Teacher\, speak to Emily Celis to discuss.) \n  \nDISCLAIMER:\nS.A.G.E Holistic Health and Wellness Center\, associates\, coordinators\, volunteers\, employees\, and any other affiliates do not take responsibility for any harm\, bodily injury\, accidents\, or damage to personal property. By “Booking” your spot or by “RSVP”ing or attending the hike\, you are confirming that you understand that all activities such as Yoga\, meditation\, Martial Arts\, Self Defense\, hiking\, and Reiki have an associated risk\, and will not hold any S.A.G.E Holistic Health and Wellness Center\, associates\, coordinators\, volunteers\, employees\, and any other affiliates responsible for any hazard to your well-being. Additionally\, you will not be allowed to participate with the group if you are not adequately prepared with enough water\, the right gear\, equipment\, and/or nutrition essential to complete the event. \n\nPHOTO/VIDEO CONSENT WAIVER: \nBy Attending our event you grant permission to S.A.G.E Holistic Health and Wellness Center to use photographs and/ or video taken of you during this event for use in publications\, website\, and other forms of media without notifying you. You hereby waive any right to inspect or approve the finished photographs or printed electronic matter that may be used in conjunction with them now or in the future\, whether that use is known to you or unknown\, and you waive any right to royalties or other compensation arising from or related to the use of the photograph(s) and/ or video.
URL:https://sagewellnessctr.org/event/reiki-level-2-training-certification-course-3/
LOCATION:14081 Yorba Street\, Suite 105\, Tustin\, CA 92780
ORGANIZER;CN="SAGE Holistic Health and Wellness":MAILTO:info@sagewellnessctr.org
END:VEVENT
BEGIN:VEVENT
DTSTART;TZID=America/Los_Angeles:20220227T183000
DTEND;TZID=America/Los_Angeles:20220227T200000
DTSTAMP:20260424T053625
CREATED:20220106T083900Z
LAST-MODIFIED:20220106T083900Z
UID:4159-1645986600-1645992000@sagewellnessctr.org
SUMMARY:S.A.G.E. Smudge\, Chakra Meditation & Reiki Healing:7-chakra series
DESCRIPTION:Have you ever heard of a sage smudge\, chakras or Reiki? We have combined these 3 powerful tools together in this ever-popular and mind-changing event on the last Sunday of each month as a way to step into that new month ahead with stillness and centered focus on your side. \nWe invite you to join Emily Celis\, Founder\, LMFT + Reiki Master|Teacher for a 7-month in depth study and Reiki healing experience of the 7 major chakras.  \nSunday\, February 27th\, from 6:30-8:00pm\, we will study the Sacral Chakra. You will be guided through a teaching portion\, chakra meditation and group Reiki healing session with a crystal singing bowl tuned to that chakra for even deeper relaxation and healing energy.  \nWhat is the sacral chakra all about? \nOur sacral chakra is our 2nd chakra and is located about two inches below our belly button. It can be represented with the color orange and is connected to our passion\, creativity\, sexual energy\, desire\, and flow. \nThis class will bring focus to this energy center and we will do the work to bring more balance to this chakra and release anything that is no longer serving you. \nThis class is for you if you are ready to more fully understand yourself\, step into more self love\, care and healing\, uplevel your life\, heal and step into that best version of you. \nSeating will be limited so there will be enough space for us to spread out and sit in circle with each other; you are welcome to bring a yoga mat or blanket to get comfortable. We will have folding chairs available. \n  \nDirections/Special instructions:  \nOFFICE LOCATION + COVID PROCEDURES\n14081 Yorba Street\, Suite 105\, Tustin\, CA 92780 \nThe office is conveniently located in Tustin right off the 55 freeway on 17th Street. You’ll find us in the Enderle Center directly across the street from the bright red restaurant “Crab Cooker”.  S.A.G.E. office is located on the ground floor. Ample parking is available on either side of our building.  \nWhen you arrive\, check our Suite 105 for location of class which will either be in the suite next door or upstairs in the conference room.  \nDue to the continuing global pandemic and to ensure the health and safety of all of our clients\, you are required to wear a face mask to our office. \nOnce seated in the classroom\, your instructor will discuss mask-wearing guidelines. As you know\, there are many different opinions about the pandemic\, and here at S.A.G.E.\, we do not discriminate against anybody’s beliefs\, however\, we do need to adhere to these policies and protect our community at large in accordance to the guidelines provided to us by city\, state and government officials. \nDISCLAIMER:\nS.A.G.E Holistic Health and Wellness Center\, associates\, coordinators\, volunteers\, employees\, and any other affiliates do not take responsibility for any harm\, bodily injury\, accidents\, or damage to personal property. By “Booking” your spot or by “RSVP”ing or attending\, you are confirming that you understand that all activities such as Yoga\, meditation\, Martial Arts\, Self Defense\, hiking\, and Reiki\, Group Therapy\, etc. have an associated risk\, and will not hold any S.A.G.E Holistic Health and Wellness Center\, associates\, coordinators\, volunteers\, employees\, and any other affiliates responsible for any hazard to your well-being. Additionally\, you will not be allowed to participate with the group if you are not adequately prepared with enough water\, the right gear\, equipment\, and/or nutrition essential to complete the event. \nPHOTO/VIDEO CONSENT WAIVER: \nBy Attending our event you grant permission to S.A.G.E Holistic Health and Wellness Center to use photographs and/ or video taken of you during this event for use in publications\, website\, and other forms of media without notifying you. You hereby waive any right to inspect or approve the finished photographs or printed electronic matter that may be used in conjunction with them now or in the future\, whether that use is known to you or unknown\, and you waive any right to royalties or other compensation arising from or related to the use of the photograph(s) and/ or video. 
URL:https://sagewellnessctr.org/event/s-a-g-e-smudge-chakra-meditation-reiki-healing7-chakra-series/
LOCATION:S.A.G.E. Holistic Health & Wellness Center
ORGANIZER;CN="SAGE Holistic Health and Wellness":MAILTO:info@sagewellnessctr.org
END:VEVENT
END:VCALENDAR