BEGIN:VCALENDAR
VERSION:2.0
PRODID:-//S.A.G.E. Holistic Health and Wellness Center - ECPv6.15.20//NONSGML v1.0//EN
CALSCALE:GREGORIAN
METHOD:PUBLISH
X-ORIGINAL-URL:https://sagewellnessctr.org
X-WR-CALDESC:Events for S.A.G.E. Holistic Health and Wellness Center
REFRESH-INTERVAL;VALUE=DURATION:PT1H
X-Robots-Tag:noindex
X-PUBLISHED-TTL:PT1H
BEGIN:VTIMEZONE
TZID:America/Los_Angeles
BEGIN:DAYLIGHT
TZOFFSETFROM:-0800
TZOFFSETTO:-0700
TZNAME:PDT
DTSTART:20210314T100000
END:DAYLIGHT
BEGIN:STANDARD
TZOFFSETFROM:-0700
TZOFFSETTO:-0800
TZNAME:PST
DTSTART:20211107T090000
END:STANDARD
BEGIN:DAYLIGHT
TZOFFSETFROM:-0800
TZOFFSETTO:-0700
TZNAME:PDT
DTSTART:20220313T100000
END:DAYLIGHT
BEGIN:STANDARD
TZOFFSETFROM:-0700
TZOFFSETTO:-0800
TZNAME:PST
DTSTART:20221106T090000
END:STANDARD
BEGIN:DAYLIGHT
TZOFFSETFROM:-0800
TZOFFSETTO:-0700
TZNAME:PDT
DTSTART:20230312T100000
END:DAYLIGHT
BEGIN:STANDARD
TZOFFSETFROM:-0700
TZOFFSETTO:-0800
TZNAME:PST
DTSTART:20231105T090000
END:STANDARD
END:VTIMEZONE
BEGIN:VTIMEZONE
TZID:UTC
BEGIN:STANDARD
TZOFFSETFROM:+0000
TZOFFSETTO:+0000
TZNAME:UTC
DTSTART:20210101T000000
END:STANDARD
END:VTIMEZONE
BEGIN:VEVENT
DTSTART;TZID=America/Los_Angeles:20220109T160000
DTEND;TZID=America/Los_Angeles:20220109T170000
DTSTAMP:20260424T065702
CREATED:20220107T052426Z
LAST-MODIFIED:20220107T052426Z
UID:4179-1641744000-1641747600@sagewellnessctr.org
SUMMARY:Sahaja Yoga Meditation Class
DESCRIPTION:Imagine being able to awaken your spiritual energy and to experience and enjoy the many benefits of meditation almost immediately. Sahaja Meditation\, while sharing many of the fundamentals of traditional meditation techniques\, is unique because of how quickly it can help you achieve self-awareness. \nJoin us (virtually) every Sunday at 4pm PST for this class hosted by Preeti of Sahaja Yoga. \nYou will be emailed the link to join after you register for the class.
URL:https://sagewellnessctr.org/event/sahaja-yoga-meditation-class-5/
LOCATION:Online Class via Zoom
ORGANIZER;CN="SAGE Holistic Health and Wellness":MAILTO:info@sagewellnessctr.org
END:VEVENT
BEGIN:VEVENT
DTSTART;TZID=America/Los_Angeles:20220116T160000
DTEND;TZID=America/Los_Angeles:20220116T170000
DTSTAMP:20260424T065702
CREATED:20220107T053217Z
LAST-MODIFIED:20220107T053217Z
UID:4182-1642348800-1642352400@sagewellnessctr.org
SUMMARY:Sahaja Yoga Meditation Class
DESCRIPTION:Imagine being able to awaken your spiritual energy and to experience and enjoy the many benefits of meditation almost immediately. Sahaja Meditation\, while sharing many of the fundamentals of traditional meditation techniques\, is unique because of how quickly it can help you achieve self-awareness. \nJoin us (virtually) every Sunday at 4pm PST for this class hosted by Preeti of Sahaja Yoga. \nYou will be emailed the link to join after you register for the class.
URL:https://sagewellnessctr.org/event/sahaja-yoga-meditation-class-16/
LOCATION:Online Class via Zoom
ORGANIZER;CN="SAGE Holistic Health and Wellness":MAILTO:info@sagewellnessctr.org
END:VEVENT
BEGIN:VEVENT
DTSTART;TZID=America/Los_Angeles:20220119T090000
DTEND;TZID=America/Los_Angeles:20220119T110000
DTSTAMP:20260424T065702
CREATED:20211231T033618Z
LAST-MODIFIED:20220318T193220Z
UID:4113-1642582800-1642590000@sagewellnessctr.org
SUMMARY:January Holistic Healers of OC Gathering
DESCRIPTION:January’s meeting will be held in-person at one of our members homes and seating will be limited to 30 people. Breakfast and beverages will be served. \n*A note about Covid. One of our HHOC members\, Joann Kenyon\, is our gracious host and we consulted with her about her preference as well as how we feel we can best keep our members safe and healthy. Here are the guidelines for our in-person event this January. \n\nIf you have any symptoms of illness\, please do not attend\nIf you have been exposed to someone with a positive Covid test within the last 7 days\, please do not attend\nMasks are not required for this event\, however\, you are welcome to wear one during the event. We encourage you to do what feels best for you and we work hard to create an environment where your personal choice is always respected.\nWe will have a Health Crisis Waiver for you to sign at the event\n\nOk. ‘nuff said. \nHere’s the Agenda: \n– Speed Networking: small group chats to connect with your OC healing commUNITY. \n– 20 Minute Presentations by two holistic healers + Q&As. \n– Group announcements: we share HHOC announcements + upcoming presenters \n– Announcements: you share briefly events\, offering\, resources\, or services for the OC commUNITY. \nYour January Member Presenters: \n\nJoann Bryan Kenyon on “The Science and Theory of Breathwork”\nJodie Shea on “Sex\, Kinks and Shrinks\, Oh My!”\n\nJoin us for connection\, learning and collaboration. This is your GO-TO group for holistic professionals to build their referrals and learn about other healing modalities. We are an abundance minded\, heart-centered group and each month we gather to network and collaborate\, learn from two member presentations and share announcements about our businesses and offerings. We are a service-based group (this group is not for product sales) and we aim to build the community stronger with these healing connections. \n  \n  \nDISCLAIMER:\nS.A.G.E Holistic Health and Wellness Center\, associates\, coordinators\, volunteers\, employees\, and any other affiliates do not take responsibility for any harm\, bodily injury\, accidents\, or damage to personal property. By “Booking” your spot or by “RSVP”ing or attending\, you are confirming that you understand that all activities such as Yoga\, meditation\, Martial Arts\, Self Defense\, hiking\, and Reiki\, Group Therapy\, etc. have an associated risk\, and will not hold any S.A.G.E Holistic Health and Wellness Center\, associates\, coordinators\, volunteers\, employees\, and any other affiliates responsible for any hazard to your well-being. Additionally\, you will not be allowed to participate with the group if you are not adequately prepared with enough water\, the right gear\, equipment\, and/or nutrition essential to complete the event. \nPHOTO/VIDEO CONSENT WAIVER: \nBy Attending our event you grant permission to S.A.G.E Holistic Health and Wellness Center to use photographs and/ or video taken of you during this event for use in publications\, website\, and other forms of media without notifying you. You hereby waive any right to inspect or approve the finished photographs or printed electronic matter that may be used in conjunction with them now or in the future\, whether that use is known to you or unknown\, and you waive any right to royalties or other compensation arising from or related to the use of the photograph(s) and/ or video. 
URL:https://sagewellnessctr.org/event/january-holistic-healers-of-oc-gathering/
LOCATION:S.A.G.E. Holistic Health & Wellness Center
ORGANIZER;CN="SAGE Holistic Health and Wellness":MAILTO:info@sagewellnessctr.org
END:VEVENT
BEGIN:VEVENT
DTSTART;TZID=America/Los_Angeles:20220123T160000
DTEND;TZID=America/Los_Angeles:20220123T170000
DTSTAMP:20260424T065702
CREATED:20220107T053313Z
LAST-MODIFIED:20220107T053314Z
UID:4185-1642953600-1642957200@sagewellnessctr.org
SUMMARY:Sahaja Yoga Meditation Class
DESCRIPTION:Imagine being able to awaken your spiritual energy and to experience and enjoy the many benefits of meditation almost immediately. Sahaja Meditation\, while sharing many of the fundamentals of traditional meditation techniques\, is unique because of how quickly it can help you achieve self-awareness. \nJoin us (virtually) every Sunday at 4pm PST for this class hosted by Preeti of Sahaja Yoga. \nYou will be emailed the link to join after you register for the class.
URL:https://sagewellnessctr.org/event/sahaja-yoga-meditation-class-17/
LOCATION:Online Class via Zoom
ORGANIZER;CN="SAGE Holistic Health and Wellness":MAILTO:info@sagewellnessctr.org
END:VEVENT
BEGIN:VEVENT
DTSTART;TZID=America/Los_Angeles:20220129T090000
DTEND;TZID=America/Los_Angeles:20220129T153000
DTSTAMP:20260424T065702
CREATED:20210826T043109Z
LAST-MODIFIED:20220114T065532Z
UID:3580-1643446800-1643470200@sagewellnessctr.org
SUMMARY:Self Defense for Professional Helpers and Healers - Level 1 Training + Certification
DESCRIPTION:Date: Saturday\, January 29th\, 2022 \nTime: 9am – 3:30pm (30 min break for lunch) \nInstructor:  Joseph Celis\, MS\, CSCS \nCost: $125 (Includes OC-pepper-spray) \nOFFICE LOCATION + COVID PROCEDURES\n14081 Yorba Street\, Tustin\, CA 92780 \nThe office is conveniently located in Tustin right off the 55 freeway on 17th Street. You’ll find us in the Enderle Center directly across the street from the bright red restaurant “Crab Cooker”.  Ample parking is available on either side of our building. Specific instructions for where to go in the building will be provided upon registration prior to start of class. \nDue to the continuing global pandemic we will be providing current guidelines at the time of your class to ensure the health and safety of all of S.A.G.E.’s patrons. \nDescription of the event: This dynamically taught 6-hour course is designed specifically for professional helpers + healers (clinical therapists\, massage therapists\, nurses\, doctors\, acupuncturists\, psychiatrists\, office staff\, etc.).  \nThis training and certification course covers imperative personal safety information and tools to develop mindset\, awareness\, confidence and effective skills to protect yourself in various situations. \nCourse instructor\, Joseph Celis\, MS\, CSCS\, is former law enforcement and has over 25 years’ experience in self-defense\, martial arts\, and in teaching practical skills for personal safety. Joseph utilizes his knowledge and experience with an effective teaching method and approach.  \nDuring class\, practical knowledge will be learned in an educational setting\, then applied during the tactical and experiential portion of class. Class will convene with each participant having solid knowledge about these concepts: \n\n Crime Statistics\n• Self Defense & California Law\n• Situational Awareness\n• Entering & Exiting your office and How to Protect Yourself\n• Proper Police Notification + Ethical Obligation\n• When to Engage and When to Tactically Retreat\n• Self Defense Tools & How to Properly Use Them (OC Spray\, Taser\, Tactical Pen\, etc)\n• Know how to Defend or Escape from the most Commonly Used Positions of Attack\n\nIt is never too late to increase your ability to feel empowered in possible situations that could otherwise prove dangerous. \n  \nTAKE ACTION & RESERVE YOUR SPOT TODAY!  \n*Minimum of 4 participants required for class to be held \nOFFICE LOCATION + COVID PROCEDURES\n14081 Yorba Street\, Tustin\, CA 92780 \nThe office is conveniently located in Tustin right off the 55 freeway on 17th Street. You’ll find us in the Enderle Center directly across the street from the bright red restaurant “Crab Cooker”.  Ample parking is available on either side of our building. Specific instructions for where to go in the building will be provided upon registration prior to start of class. \nDue to the continuing global pandemic we will be providing current guidelines at the time of your class to ensure the health and safety of all of S.A.G.E.’s patrons. \nDISCLAIMER:\nS.A.G.E Holistic Health and Wellness Center\, associates\, coordinators\, volunteers\, employees\, and any other affiliates do not take responsibility for any harm\, bodily injury\, accidents\, or damage to personal property. By “Booking” your spot or by “RSVP”ing or attending the hike\, you are confirming that you understand that all activities such as Yoga\, meditation\, Martial Arts\, Self Defense\, hiking\, and Reiki have an associated risk\, and will not hold any S.A.G.E Holistic Health and Wellness Center\, associates\, coordinators\, volunteers\, employees\, and any other affiliates responsible for any hazard to your well-being. Additionally\, you will not be allowed to participate with the group if you are not adequately prepared with enough water\, the right gear\, equipment\, and/or nutrition essential to complete the event. \n\nPHOTO/VIDEO CONSENT WAIVER: \nBy Attending our event you grant permission to S.A.G.E Holistic Health and Wellness Center to use photographs and/ or video taken of you during this event for use in publications\, website\, and other forms of media without notifying you. You hereby waive any right to inspect or approve the finished photographs or printed electronic matter that may be used in conjunction with them now or in the future\, whether that use is known to you or unknown\, and you waive any right to royalties or other compensation arising from or related to the use of the photograph(s) and/ or video.
URL:https://sagewellnessctr.org/event/self-defense-for-professional-helpers-and-healers-level-1-training-certification-3/
LOCATION:14081 Yorba Street\, Suite 105\, Tustin\, CA 92780
ORGANIZER;CN="SAGE Holistic Health and Wellness":MAILTO:info@sagewellnessctr.org
END:VEVENT
BEGIN:VEVENT
DTSTART;TZID=UTC:20220130T090000
DTEND;TZID=UTC:20220130T163000
DTSTAMP:20260424T065702
CREATED:20210822T012834Z
LAST-MODIFIED:20210915T060206Z
UID:3519-1643533200-1643560200@sagewellnessctr.org
SUMMARY:Reiki Level 1 Training + Certification Course
DESCRIPTION:Get trained and certified in Reiki! Learn how to tap into your innate healing power\, deepen your spirituality and expand your intuition. After this first class you will be ready to conduct your own Reiki healing sessions and even begin working as a Certified Reiki Practitioner.  \n  \nREIKI 1 CLASS OBJECTIVES: During this 1-time workshop\, you will:  \n* Learn about what Reiki is\, how it is used\, and what it feels like  \n* Discuss how to protect yourself during healing sessions  \n* Explore Reiki’s guiding principles  \n* Learn about the history of Reiki  \n* Be taught how to conduct healing sessions  \n* Be attuned to 1 Reiki symbol\, which is used to turn on and turn off the flow of Reiki energy  \n* Receive your Reiki guide\, which is a spiritual helper on the other side who will assist you with your healings  \n* Practice using your new healing abilities  \nREIKI 1 COURSE INCLUDES:  \n* Professionally prepared 85-page manual  \n* In-person instruction with time for questions  \n* Attunement to 1 Reiki symbol  \n* Time to practice your new skills  \n* A “Certificate of Completion” verifying that you are a Reiki I Practitioner\, which makes you eligible to offer Reiki healing sessions to the public for a fee\, if you choose to do so. \n  \n————- \n  \nWhat is Reiki? Reiki is a form of “energetic” healing that works harmoniously with all other forms of treatment (e.g. medical\, psychological\, alternative\, etc.). Many philosophical/religious systems and even some branches of science now understand that there is an unseen energy that flows through all living things. This energy is believed to be around us all the time and is believed to be what creates and sustains life. The word Reiki is composed of two different Japanese words: “rei” is generally translated as “universal”\, “God”\, “soul”\, or “spiritual” and the word “ki” is translated as “energy” or “life force”. Therefore\, Reiki represents the “life force energy” and the source of that energy is spiritual. How does Reiki work? It is a simple and powerful healing technique that works to balance out the energy system of the body which often leads to improvements in health\, increased relaxation and improved wellbeing. If someone’s “life force energy” is low or blocked\, then they are more likely to become ill. If it is high and flowing smoothly through the body (i.e.\, through the meridians)\, then the person is more resilient to disease and is happier. The goal of balancing the person’s energy is similar to that of acupuncturists or acupressurists\, however\, with Reiki\, the Practitioner does not necessarily need to touch the body…it can be done either “hands on” or “hands off”. It does not require any special equipment or environment. \n  \nDISCLAIMER:\nS.A.G.E Holistic Health and Wellness Center\, associates\, coordinators\, volunteers\, employees\, and any other affiliates do not take responsibility for any harm\, bodily injury\, accidents\, or damage to personal property. By “Booking” your spot or by “RSVP”ing or attending the hike\, you are confirming that you understand that all activities such as Yoga\, meditation\, Martial Arts\, Self Defense\, hiking\, and Reiki have an associated risk\, and will not hold any S.A.G.E Holistic Health and Wellness Center\, associates\, coordinators\, volunteers\, employees\, and any other affiliates responsible for any hazard to your well-being. Additionally\, you will not be allowed to participate with the group if you are not adequately prepared with enough water\, the right gear\, equipment\, and/or nutrition essential to complete the event. \n\nPHOTO/VIDEO CONSENT WAIVER: \nBy Attending our event you grant permission to S.A.G.E Holistic Health and Wellness Center to use photographs and/ or video taken of you during this event for use in publications\, website\, and other forms of media without notifying you. You hereby waive any right to inspect or approve the finished photographs or printed electronic matter that may be used in conjunction with them now or in the future\, whether that use is known to you or unknown\, and you waive any right to royalties or other compensation arising from or related to the use of the photograph(s) and/ or video.
URL:https://sagewellnessctr.org/event/reiki-level-1-training-certification-course-4/
LOCATION:14081 Yorba Street\, Suite 105\, Tustin\, CA 92780
ORGANIZER;CN="SAGE Holistic Health and Wellness":MAILTO:info@sagewellnessctr.org
END:VEVENT
BEGIN:VEVENT
DTSTART;TZID=America/Los_Angeles:20220130T160000
DTEND;TZID=America/Los_Angeles:20220130T170000
DTSTAMP:20260424T065702
CREATED:20220107T053405Z
LAST-MODIFIED:20220107T053405Z
UID:4188-1643558400-1643562000@sagewellnessctr.org
SUMMARY:Sahaja Yoga Meditation Class
DESCRIPTION:Imagine being able to awaken your spiritual energy and to experience and enjoy the many benefits of meditation almost immediately. Sahaja Meditation\, while sharing many of the fundamentals of traditional meditation techniques\, is unique because of how quickly it can help you achieve self-awareness. \nJoin us (virtually) every Sunday at 4pm PST for this class hosted by Preeti of Sahaja Yoga. \nYou will be emailed the link to join after you register for the class.
URL:https://sagewellnessctr.org/event/sahaja-yoga-meditation-class-18/
LOCATION:Online Class via Zoom
ORGANIZER;CN="SAGE Holistic Health and Wellness":MAILTO:info@sagewellnessctr.org
END:VEVENT
BEGIN:VEVENT
DTSTART;TZID=America/Los_Angeles:20220130T183000
DTEND;TZID=America/Los_Angeles:20220130T200000
DTSTAMP:20260424T065702
CREATED:20210928T034831Z
LAST-MODIFIED:20220109T124011Z
UID:3848-1643567400-1643572800@sagewellnessctr.org
SUMMARY:S.A.G.E. Smudge\, Chakra Meditation & Reiki Healing:7-chakra series
DESCRIPTION:Have you ever heard of a sage smudge\, chakras or Reiki? We have combined these 3 powerful tools together in this ever-popular and mind-changing event on the last Sunday of each month as a way to step into that new month ahead with stillness and centered focus on your side. \nWe invite you to join Emily Celis\, Founder\, LMFT + Reiki Master|Teacher for a 7-month in depth study and Reiki healing experience of the 7 major chakras.  \nSunday\, January 30th\, from 6:30-8:00pm\, we will study the Root Chakra. You will be guided through a teaching portion\, chakra meditation and group Reiki healing session with a crystal singing bowl tuned to that chakra for even deeper relaxation and healing energy.  \nWhat is the root chakra all about? \nOur root chakra is our 1st chakra located at the base of our spine. It can be represented with the color red/black and is connected to our tribal or group energy\, safety\, survival\, fear\, family/chosen family/sense of belonging\, self-care/self-love\, and the need for order in our life.  \nThis class will bring focus to this energy center and we will do the work to bring more balance to this chakra and release anything that is no longer serving you. \nThis class is for you if you are ready to more fully understand yourself\, step into more self love\, care and healing\, uplevel your life\, heal and step into that best version of you. \nSeating will be limited so there will be enough space for us to spread out and sit in circle with each other; you are welcome to bring a yoga mat or blanket to get comfortable. We will have folding chairs available. \n  \nDirections/Special instructions:  \nOFFICE LOCATION + COVID PROCEDURES\n14081 Yorba Street\, Suite 105\, Tustin\, CA 92780 \nThe office is conveniently located in Tustin right off the 55 freeway on 17th Street. You’ll find us in the Enderle Center directly across the street from the bright red restaurant “Crab Cooker”.  S.A.G.E. office is located on the ground floor. Ample parking is available on either side of our building.  \nWhen you arrive\, check our Suite 105 for location of class which will either be in the suite next door or upstairs in the conference room.  \nDue to the continuing global pandemic and to ensure the health and safety of all of our clients\, you are required to wear a face mask to our office. \nOnce seated in the classroom\, your instructor will discuss mask-wearing guidelines. As you know\, there are many different opinions about the pandemic\, and here at S.A.G.E.\, we do not discriminate against anybody’s beliefs\, however\, we do need to adhere to these policies and protect our community at large in accordance to the guidelines provided to us by city\, state and government officials. \nDISCLAIMER:\nS.A.G.E Holistic Health and Wellness Center\, associates\, coordinators\, volunteers\, employees\, and any other affiliates do not take responsibility for any harm\, bodily injury\, accidents\, or damage to personal property. By “Booking” your spot or by “RSVP”ing or attending\, you are confirming that you understand that all activities such as Yoga\, meditation\, Martial Arts\, Self Defense\, hiking\, and Reiki\, Group Therapy\, etc. have an associated risk\, and will not hold any S.A.G.E Holistic Health and Wellness Center\, associates\, coordinators\, volunteers\, employees\, and any other affiliates responsible for any hazard to your well-being. Additionally\, you will not be allowed to participate with the group if you are not adequately prepared with enough water\, the right gear\, equipment\, and/or nutrition essential to complete the event. \nPHOTO/VIDEO CONSENT WAIVER: \nBy Attending our event you grant permission to S.A.G.E Holistic Health and Wellness Center to use photographs and/ or video taken of you during this event for use in publications\, website\, and other forms of media without notifying you. You hereby waive any right to inspect or approve the finished photographs or printed electronic matter that may be used in conjunction with them now or in the future\, whether that use is known to you or unknown\, and you waive any right to royalties or other compensation arising from or related to the use of the photograph(s) and/ or video. 
URL:https://sagewellnessctr.org/event/s-a-g-e-smudge-meditation-reiki-2/
LOCATION:S.A.G.E. Holistic Health & Wellness Center
ORGANIZER;CN="SAGE Holistic Health and Wellness":MAILTO:info@sagewellnessctr.org
END:VEVENT
END:VCALENDAR