BEGIN:VCALENDAR
VERSION:2.0
PRODID:-//S.A.G.E. Holistic Health and Wellness Center - ECPv6.15.20//NONSGML v1.0//EN
CALSCALE:GREGORIAN
METHOD:PUBLISH
X-ORIGINAL-URL:https://sagewellnessctr.org
X-WR-CALDESC:Events for S.A.G.E. Holistic Health and Wellness Center
REFRESH-INTERVAL;VALUE=DURATION:PT1H
X-Robots-Tag:noindex
X-PUBLISHED-TTL:PT1H
BEGIN:VTIMEZONE
TZID:America/Los_Angeles
BEGIN:DAYLIGHT
TZOFFSETFROM:-0800
TZOFFSETTO:-0700
TZNAME:PDT
DTSTART:20200308T100000
END:DAYLIGHT
BEGIN:STANDARD
TZOFFSETFROM:-0700
TZOFFSETTO:-0800
TZNAME:PST
DTSTART:20201101T090000
END:STANDARD
BEGIN:DAYLIGHT
TZOFFSETFROM:-0800
TZOFFSETTO:-0700
TZNAME:PDT
DTSTART:20210314T100000
END:DAYLIGHT
BEGIN:STANDARD
TZOFFSETFROM:-0700
TZOFFSETTO:-0800
TZNAME:PST
DTSTART:20211107T090000
END:STANDARD
BEGIN:DAYLIGHT
TZOFFSETFROM:-0800
TZOFFSETTO:-0700
TZNAME:PDT
DTSTART:20220313T100000
END:DAYLIGHT
BEGIN:STANDARD
TZOFFSETFROM:-0700
TZOFFSETTO:-0800
TZNAME:PST
DTSTART:20221106T090000
END:STANDARD
END:VTIMEZONE
BEGIN:VEVENT
DTSTART;TZID=America/Los_Angeles:20210906T200000
DTEND;TZID=America/Los_Angeles:20210906T210000
DTSTAMP:20260424T115630
CREATED:20210913T114856Z
LAST-MODIFIED:20210913T114856Z
UID:3718-1630958400-1630962000@sagewellnessctr.org
SUMMARY:Sahaja Yoga Meditation Class
DESCRIPTION:Imagine being able to awaken your spiritual energy and to experience and enjoy the many benefits of meditation almost immediately. Sahaja Meditation\, while sharing many of the fundamentals of traditional meditation techniques\, is unique because of how quickly it can help you achieve self-awareness. \nJoin us (virtually) every Monday at 8pm PST for this class hosted by Preeti of Sahaja Yoga.
URL:https://sagewellnessctr.org/event/sahaja-yoga-meditation-class/
LOCATION:Online Class via Zoom
ORGANIZER;CN="Sahaja Yoga":MAILTO:info@sagewellnessctr.org
END:VEVENT
BEGIN:VEVENT
DTSTART;TZID=America/Los_Angeles:20210913T200000
DTEND;TZID=America/Los_Angeles:20210913T210000
DTSTAMP:20260424T115630
CREATED:20210913T115018Z
LAST-MODIFIED:20210913T115018Z
UID:3721-1631563200-1631566800@sagewellnessctr.org
SUMMARY:Sahaja Yoga Meditation Class
DESCRIPTION:Imagine being able to awaken your spiritual energy and to experience and enjoy the many benefits of meditation almost immediately. Sahaja Meditation\, while sharing many of the fundamentals of traditional meditation techniques\, is unique because of how quickly it can help you achieve self-awareness. \nJoin us (virtually) every Monday at 8pm PST for this class hosted by Preeti of Sahaja Yoga.
URL:https://sagewellnessctr.org/event/sahaja-yoga-meditation-class-2/
LOCATION:Online Class via Zoom
ORGANIZER;CN="Sahaja Yoga":MAILTO:info@sagewellnessctr.org
END:VEVENT
BEGIN:VEVENT
DTSTART;TZID=America/Los_Angeles:20210918T090000
DTEND;TZID=America/Los_Angeles:20210918T153000
DTSTAMP:20260424T115630
CREATED:20210826T014813Z
LAST-MODIFIED:20210918T054126Z
UID:3546-1631955600-1631979000@sagewellnessctr.org
SUMMARY:Self Defense for Professional Healers + Helpers: Level 1
DESCRIPTION:Date: Saturday\, September 18th\, 2021\nTime: 9am – 3:30pm (30 min break for lunch)\nInstructor: Joseph Celis\, MS\, CSCS\nCost: $125 (Includes OC-pepper-spray)\n*Sliding Scale available\, please enquire if financial assistance is needed \nLocation: S.A.G.E. Holistic Health & Wellness Center\, 14081 Yorba Street\, Suite 105\, Tustin\, CA 92780 \nThis dynamically taught 6-hour course is designed specifically for professional helpers + healers (clinical therapists\, massage therapists\, nurses\, doctors\, acupuncturists\, psychiatrists\, office staff\, etc.).\nThis training and certification course covers imperative personal safety information and tools to develop mindset\, awareness\, confidence and effective skills to protect yourself in various situations. \nCourse instructor\, Joseph Celis\, MS\, CSCS\, is former law enforcement and has over 25 years’ experience in self-defense\, martial arts\, and in teaching practical skills for personal safety. Joseph utilizes his knowledge and experience with an effective teaching method and approach that reaches all through his calm and helpful demeanor where no question is left unanswered and you leave class feeling as though you have an ally on your side for good. \nDuring class\, practical knowledge will be learned in an educational setting\, then applied during the tactical and experiential portion of class. Class will convene with each participant having solid knowledge about these concepts: \n• Crime Statistics\n• Self Defense & California Law\n• Situational Awareness\n• Entering & Exiting your office and How to Protect Yourself\n• Proper Police Notification + Ethical Obligation\n• When to Engage and When to Tactically Retreat\n• Self Defense Tools & How to Properly Use Them (OC Spray\, Taser\, Tactical Pen\, etc)\n• Know how to Defend or Escape from the most Commonly Used Positions of Attack \nIt is never too late to increase your ability to feel empowered in possible situations that could otherwise prove dangerous. \nTAKE ACTION & RESERVE YOUR SPOT TODAY!\n*Minimum of 4 participants required for class to be held\nOFFICE LOCATION + COVID PROCEDURES\n14081 Yorba Street\, Tustin\, CA 92780\nThe office is conveniently located in Tustin right off the 55 freeway on 17th Street. You’ll find us in the Enderle Center directly across the street from the bright red restaurant “Crab Cooker”. Ample parking is available on either side of our building. Specific instructions for where to go in the building will be provided upon registration prior to start of class. \nDue to the continuing global pandemic we will be providing current guidelines at the time of your class to ensure the health and safety of all of S.A.G.E.’s patrons. \nDISCLAIMER:\nS.A.G.E Holistic Health and Wellness Center\, associates\, coordinators\, volunteers\, employees\, and any other affiliates do not take responsibility for any harm\, bodily injury\, accidents\, or damage to personal property. By “Booking” your spot or by “RSVP”ing or attending the hike\, you are confirming that you understand that all activities such as Yoga\, meditation\, Martial Arts\, Self Defense\, hiking\, and Reiki have an associated risk\, and will not hold any S.A.G.E Holistic Health and Wellness Center\, associates\, coordinators\, volunteers\, employees\, and any other affiliates responsible for any hazard to your well-being. Additionally\, you will not be allowed to participate with the group if you are not adequately prepared with enough water\, the right gear\, equipment\, and/or nutrition essential to complete the event. \nPHOTO/VIDEO CONSENT WAIVER:\nBy Attending our event you grant permission to S.A.G.E Holistic Health and Wellness Center to use photographs and/ or video taken of you during this event for use in publications\, website\, and other forms of media without notifying you. You hereby waive any right to inspect or approve the finished photographs or printed electronic matter that may be used in conjunction with them now or in the future\, whether that use is known to you or unknown\, and you waive any right to royalties or other compensation arising from or related to the use of the photograph(s) and/ or video.
URL:https://sagewellnessctr.org/event/self-defense-for-professional-healers-helpers-level-1/
LOCATION:14081 Yorba Street\, Suite 105\, Tustin\, CA 92780
ORGANIZER;CN="SAGE Holistic Health and Wellness":MAILTO:info@sagewellnessctr.org
END:VEVENT
BEGIN:VEVENT
DTSTART;TZID=America/Los_Angeles:20210920T200000
DTEND;TZID=America/Los_Angeles:20210920T210000
DTSTAMP:20260424T115630
CREATED:20210913T115127Z
LAST-MODIFIED:20210913T115127Z
UID:3724-1632168000-1632171600@sagewellnessctr.org
SUMMARY:Sahaja Yoga Meditation Class
DESCRIPTION:Imagine being able to awaken your spiritual energy and to experience and enjoy the many benefits of meditation almost immediately. Sahaja Meditation\, while sharing many of the fundamentals of traditional meditation techniques\, is unique because of how quickly it can help you achieve self-awareness. \nJoin us (virtually) every Monday at 8pm PST for this class hosted by Preeti of Sahaja Yoga.
URL:https://sagewellnessctr.org/event/sahaja-yoga-meditation-class-3/
LOCATION:Online Class via Zoom
ORGANIZER;CN="Sahaja Yoga":MAILTO:info@sagewellnessctr.org
END:VEVENT
BEGIN:VEVENT
DTSTART;TZID=America/Los_Angeles:20210926T183000
DTEND;TZID=America/Los_Angeles:20210926T193000
DTSTAMP:20260424T115630
CREATED:20210422T043700Z
LAST-MODIFIED:20210925T102711Z
UID:2794-1632681000-1632684600@sagewellnessctr.org
SUMMARY:S.A.G.E. Smudge + Meditation + Reiki
DESCRIPTION:Join us for this fun event– an evening of relaxation and de-stressing as we set our intention for the week. The evening begins with a ceremonial S.A.G.E. smudge to clear away any stagnant or “negative” energies\, followed by a guided chakra (energy center) meditation and Reiki healing. Whether you meditate on the regular or just beginning\, this evening is designed to bring in the positive to your life and let go of what does not serve you any longer.
URL:https://sagewellnessctr.org/event/s-a-g-e-smudge-meditation-reiki-class-6/
LOCATION:S.A.G.E. Holistic Health & Wellness Center
ORGANIZER;CN="SAGE Holistic Health and Wellness":MAILTO:info@sagewellnessctr.org
END:VEVENT
BEGIN:VEVENT
DTSTART;TZID=America/Los_Angeles:20210927T200000
DTEND;TZID=America/Los_Angeles:20210927T210000
DTSTAMP:20260424T115630
CREATED:20210913T115236Z
LAST-MODIFIED:20210913T115236Z
UID:3727-1632772800-1632776400@sagewellnessctr.org
SUMMARY:Sahaja Yoga Meditation Class
DESCRIPTION:Imagine being able to awaken your spiritual energy and to experience and enjoy the many benefits of meditation almost immediately. Sahaja Meditation\, while sharing many of the fundamentals of traditional meditation techniques\, is unique because of how quickly it can help you achieve self-awareness. \nJoin us (virtually) every Monday at 8pm PST for this class hosted by Preeti of Sahaja Yoga.
URL:https://sagewellnessctr.org/event/sahaja-yoga-meditation-class-4/
LOCATION:Online Class via Zoom
ORGANIZER;CN="Sahaja Yoga":MAILTO:info@sagewellnessctr.org
END:VEVENT
END:VCALENDAR