BEGIN:VCALENDAR
VERSION:2.0
PRODID:-//S.A.G.E. Holistic Health and Wellness Center - ECPv6.15.20//NONSGML v1.0//EN
CALSCALE:GREGORIAN
METHOD:PUBLISH
X-WR-CALNAME:S.A.G.E. Holistic Health and Wellness Center
X-ORIGINAL-URL:https://sagewellnessctr.org
X-WR-CALDESC:Events for S.A.G.E. Holistic Health and Wellness Center
REFRESH-INTERVAL;VALUE=DURATION:PT1H
X-Robots-Tag:noindex
X-PUBLISHED-TTL:PT1H
BEGIN:VTIMEZONE
TZID:America/Los_Angeles
BEGIN:DAYLIGHT
TZOFFSETFROM:-0800
TZOFFSETTO:-0700
TZNAME:PDT
DTSTART:20200308T100000
END:DAYLIGHT
BEGIN:STANDARD
TZOFFSETFROM:-0700
TZOFFSETTO:-0800
TZNAME:PST
DTSTART:20201101T090000
END:STANDARD
BEGIN:DAYLIGHT
TZOFFSETFROM:-0800
TZOFFSETTO:-0700
TZNAME:PDT
DTSTART:20210314T100000
END:DAYLIGHT
BEGIN:STANDARD
TZOFFSETFROM:-0700
TZOFFSETTO:-0800
TZNAME:PST
DTSTART:20211107T090000
END:STANDARD
BEGIN:DAYLIGHT
TZOFFSETFROM:-0800
TZOFFSETTO:-0700
TZNAME:PDT
DTSTART:20220313T100000
END:DAYLIGHT
BEGIN:STANDARD
TZOFFSETFROM:-0700
TZOFFSETTO:-0800
TZNAME:PST
DTSTART:20221106T090000
END:STANDARD
END:VTIMEZONE
BEGIN:VTIMEZONE
TZID:UTC
BEGIN:STANDARD
TZOFFSETFROM:+0000
TZOFFSETTO:+0000
TZNAME:UTC
DTSTART:20200101T000000
END:STANDARD
END:VTIMEZONE
BEGIN:VEVENT
DTSTART;TZID=America/Los_Angeles:20210712T200000
DTEND;TZID=America/Los_Angeles:20210712T210000
DTSTAMP:20260424T134552
CREATED:20210703T111055Z
LAST-MODIFIED:20210709T045131Z
UID:3240-1626120000-1626123600@sagewellnessctr.org
SUMMARY:Sahaja Yoga Meditation Class
DESCRIPTION:Imagine being able to awaken your spiritual energy and to experience and enjoy the many benefits of meditation almost immediately. Sahaja Meditation\, while sharing many of the fundamentals of traditional meditation techniques\, is unique because of how quickly it can help you achieve self-awareness. \nJoin us (virtually) every Monday at 8pm PST for this class hosted by Preeti of Sahaja Yoga.
URL:https://sagewellnessctr.org/event/sahaja-yoga-class/
LOCATION:Online Class via Zoom
ORGANIZER;CN="Sahaja Yoga":MAILTO:info@sagewellnessctr.org
END:VEVENT
BEGIN:VEVENT
DTSTART;TZID=America/Los_Angeles:20210719T200000
DTEND;TZID=America/Los_Angeles:20210719T210000
DTSTAMP:20260424T134552
CREATED:20210708T233501Z
LAST-MODIFIED:20210709T045123Z
UID:3302-1626724800-1626728400@sagewellnessctr.org
SUMMARY:Sahaja Yoga Meditation Class
DESCRIPTION:Imagine being able to awaken your spiritual energy and to experience and enjoy the many benefits of meditation almost immediately. Sahaja Meditation\, while sharing many of the fundamentals of traditional meditation techniques\, is unique because of how quickly it can help you achieve self-awareness. \nJoin us (virtually) every Monday at 8pm PST for this class hosted by Preeti of Sahaja Yoga.
URL:https://sagewellnessctr.org/event/sahaja-yoga-class-2/
LOCATION:Online Class via Zoom
ORGANIZER;CN="Sahaja Yoga":MAILTO:info@sagewellnessctr.org
END:VEVENT
BEGIN:VEVENT
DTSTART;TZID=UTC:20210725T090000
DTEND;TZID=UTC:20210725T153000
DTSTAMP:20260424T134552
CREATED:20210713T012632Z
LAST-MODIFIED:20210714T015435Z
UID:3353-1627203600-1627227000@sagewellnessctr.org
SUMMARY:Self Defense for College Women - Level 1 Training + Certification
DESCRIPTION:This 6-hour Training + Certification Course is designed specifically for women who will be attending or have already started attending college and covers imperative personal safety information and tools to develop mindset\, awareness\, confidence and effective skills to protect yourself in various situations.\nCourse instructor\, Joseph Celis\, MS\, CSCS\, is former law enforcement and has over 25 years experience in self defense\, martial arts\, and in teaching practical skills for personal safety. Joseph utilizes his knowledge and experience with an effective teaching method and approach coupled with his passion for being an instigator of justice and empowerment for women. \n  \nDuring class\, practical knowledge will be learned in an educational setting\, then applied during the tactical and experiential portion of class. Class will convene with each participant having solid knowledge about these concepts: \n  \n\n Crime Statistics\n• Self Defense & California Law\n• Situational Awareness\n• Entering & Exiting Various Locations and How to Protect Yourself\n• Proper Police Notification \n• When to Engage and When to Tactically Retreat\n• Self Defense Tools & How to Properly Use Them (OC Spray\, Taser\, Tactical Pen\, etc)\n• Know how to Defend or Escape from the most Commonly Used Positions of Attack \n\nSign up now! Don’t wait for something to happen that you’re not prepared for. \n  \n*Class will begin upstairs in the conference room. Part of the training will be downstairs in Suite 105. \n  \nCost: $125 (includes OC (pepper) spray)*  \nInstructor:  Joseph Celis\, MS\, CSCS \nLevel: 1 \nSpecial instructions and directions to our facility will be sent after you have registered and closer to the event date.
URL:https://sagewellnessctr.org/event/self-defense-for-college-women-level-1-training-certification/
LOCATION:14081 Yorba Street\, Suite 105\, Tustin\, CA 92780
END:VEVENT
BEGIN:VEVENT
DTSTART;TZID=America/Los_Angeles:20210725T200000
DTEND;TZID=America/Los_Angeles:20210725T210000
DTSTAMP:20260424T134552
CREATED:20210422T043504Z
LAST-MODIFIED:20210422T043504Z
UID:2787-1627243200-1627246800@sagewellnessctr.org
SUMMARY:S.A.G.E. Smudge + Meditation + Reiki {FREE CLASS}
DESCRIPTION:Join us for this *FREE* event and an evening of relaxation and de-stressing as we set our intention for the week. This evening begins with a ceremonial S.A.G.E. smudge to clear away any stagnant or “negative” energies\, followed by a guided chakra (energy center) meditation and Reiki healing. Whether you meditate on the regular or just beginning\, this evening is designed to bring in the positive to your life and let go of what does not serve you any longer.
URL:https://sagewellnessctr.org/event/s-a-g-e-smudge-meditation-reiki-free-class-4/
LOCATION:S.A.G.E. Holistic Health & Wellness Center
END:VEVENT
BEGIN:VEVENT
DTSTART;TZID=America/Los_Angeles:20210726T200000
DTEND;TZID=America/Los_Angeles:20210726T210000
DTSTAMP:20260424T134552
CREATED:20210708T233640Z
LAST-MODIFIED:20210709T045115Z
UID:3306-1627329600-1627333200@sagewellnessctr.org
SUMMARY:Sahaja Yoga Meditation Class
DESCRIPTION:Imagine being able to awaken your spiritual energy and to experience and enjoy the many benefits of meditation almost immediately. Sahaja Meditation\, while sharing many of the fundamentals of traditional meditation techniques\, is unique because of how quickly it can help you achieve self-awareness. \nJoin us (virtually) every Monday at 8pm PST for this class hosted by Preeti of Sahaja Yoga.
URL:https://sagewellnessctr.org/event/sahaja-yoga-class-3/
LOCATION:Online Class via Zoom
ORGANIZER;CN="Sahaja Yoga":MAILTO:info@sagewellnessctr.org
END:VEVENT
END:VCALENDAR