BEGIN:VCALENDAR
VERSION:2.0
PRODID:-//S.A.G.E. Holistic Health and Wellness Center - ECPv6.15.20//NONSGML v1.0//EN
CALSCALE:GREGORIAN
METHOD:PUBLISH
X-WR-CALNAME:S.A.G.E. Holistic Health and Wellness Center
X-ORIGINAL-URL:https://sagewellnessctr.org
X-WR-CALDESC:Events for S.A.G.E. Holistic Health and Wellness Center
REFRESH-INTERVAL;VALUE=DURATION:PT1H
X-Robots-Tag:noindex
X-PUBLISHED-TTL:PT1H
BEGIN:VTIMEZONE
TZID:America/Los_Angeles
BEGIN:DAYLIGHT
TZOFFSETFROM:-0800
TZOFFSETTO:-0700
TZNAME:PDT
DTSTART:20200308T100000
END:DAYLIGHT
BEGIN:STANDARD
TZOFFSETFROM:-0700
TZOFFSETTO:-0800
TZNAME:PST
DTSTART:20201101T090000
END:STANDARD
BEGIN:DAYLIGHT
TZOFFSETFROM:-0800
TZOFFSETTO:-0700
TZNAME:PDT
DTSTART:20210314T100000
END:DAYLIGHT
BEGIN:STANDARD
TZOFFSETFROM:-0700
TZOFFSETTO:-0800
TZNAME:PST
DTSTART:20211107T090000
END:STANDARD
BEGIN:DAYLIGHT
TZOFFSETFROM:-0800
TZOFFSETTO:-0700
TZNAME:PDT
DTSTART:20220313T100000
END:DAYLIGHT
BEGIN:STANDARD
TZOFFSETFROM:-0700
TZOFFSETTO:-0800
TZNAME:PST
DTSTART:20221106T090000
END:STANDARD
END:VTIMEZONE
BEGIN:VEVENT
DTSTART;TZID=America/Los_Angeles:20210626T090000
DTEND;TZID=America/Los_Angeles:20210626T110000
DTSTAMP:20260421T193025
CREATED:20210527T030353Z
LAST-MODIFIED:20210527T231602Z
UID:3155-1624698000-1624705200@sagewellnessctr.org
SUMMARY:Awareness Training for our AAPI Community
DESCRIPTION:*We are limiting this class to 20 participants and are requiring a minimum of 10\nparticipants to hold this class. A $5 fee will be required upon registration to reserve your\nspot and you will be reimbursed when you show up. \nDirections/Special instructions:\nWe are hosting this FREE Awareness Training for adults as a response to the recent\nand ongoing events and to provide a useful and practical knowledge base for how to\naddress issues with regard to violence and/or racial mistreatment. \nThis class will be two hours where your instructor\, Joseph Celis\, MS\, CSCS and former\nlaw enforcement officer will provide Awareness Training for your personal and physical\nsafety. Joseph pulls from his 25+ years of training in martial arts\, self defense and real\nlife experience and brings together important need-to-know information that will prove\nuseful should the situation ever call for it. \nJoseph will review practical ways to immediately improve your awareness\, thereby\ngreatly enhancing your ability to stay safe and he will also review specifics about what\nyour rights are and what the says with regard to the law and your personal safety. \nThis class will be held at Irvine Regional Park and there is a *$5 charge for park entry or\nyou may use your OC Parks Pass. Please bring your own chair as this will be a lecture\nand Q+A format; this class is for adults only. \nSpecific directions for where we will be located within Irvine Regional Park will go out to\nyour email after you reserve your spot.
URL:https://sagewellnessctr.org/event/awareness-training-for-our-aapi-community/
LOCATION:Irvine Regional Park
END:VEVENT
BEGIN:VEVENT
DTSTART;TZID=America/Los_Angeles:20210527T171500
DTEND;TZID=America/Los_Angeles:20210527T181500
DTSTAMP:20260421T193025
CREATED:20210526T073028Z
LAST-MODIFIED:20210526T074802Z
UID:3148-1622135700-1622139300@sagewellnessctr.org
SUMMARY:S.A.G.E. Chat - Let’s talk recovery!
DESCRIPTION:Discussion with Vicky Truong-Mirhossein\, AMFT and Samuel\nCuevas\, Co-Founder of the Happiest Road \nPoints that we’ll be discussing:\n– What makes a person want to change his/her/their relationship with a substance?\n– What does it mean to live a life full of spiritual\, mental\, and physical wellness?\n– How can therapy help someone author their life in sobriety?\n– Brief plug in for the Happiest Road and all its cool spiritual gifts for spiritual\nseekers. \n  \n 
URL:https://sagewellnessctr.org/event/s-a-g-e-chat-lets-talk-recovery/
LOCATION:Facebook LIVE
END:VEVENT
BEGIN:VEVENT
DTSTART;TZID=America/Los_Angeles:20210523T200000
DTEND;TZID=America/Los_Angeles:20210523T210000
DTSTAMP:20260421T193025
CREATED:20210422T043306Z
LAST-MODIFIED:20210422T043306Z
UID:2781-1621800000-1621803600@sagewellnessctr.org
SUMMARY:S.A.G.E. Smudge + Meditation + Reiki {FREE CLASS}
DESCRIPTION:Join us for this *FREE* event and an evening of relaxation and de-stressing as we set our intention for the week. This evening begins with a ceremonial S.A.G.E. smudge to clear away any stagnant or “negative” energies\, followed by a guided chakra (energy center) meditation and Reiki healing. Whether you meditate on the regular or just beginning\, this evening is designed to bring in the positive to your life and let go of what does not serve you any longer.
URL:https://sagewellnessctr.org/event/s-a-g-e-smudge-meditation-reiki-free-class-2/
LOCATION:S.A.G.E. Holistic Health & Wellness Center
END:VEVENT
BEGIN:VEVENT
DTSTART;TZID=America/Los_Angeles:20210425T200000
DTEND;TZID=America/Los_Angeles:20210425T210000
DTSTAMP:20260421T193025
CREATED:20210420T185826Z
LAST-MODIFIED:20210420T185826Z
UID:2679-1619380800-1619384400@sagewellnessctr.org
SUMMARY:S.A.G.E. Smudge + Meditation + Reiki {FREE CLASS}
DESCRIPTION:Join us for this *FREE* event and an evening of relaxation and de-stressing as we set our intention for the week. This evening begins with a ceremonial S.A.G.E. smudge to clear away any stagnant or “negative” energies\, followed by a guided chakra (energy center) meditation and Reiki healing. Whether you meditate on the regular or just beginning\, this evening is designed to bring in the positive to your life and let go of what does not serve you any longer.
URL:https://sagewellnessctr.org/event/s-a-g-e-smudge-meditation-reiki-free-class/
LOCATION:S.A.G.E. Holistic Health & Wellness Center
END:VEVENT
END:VCALENDAR