BEGIN:VCALENDAR
VERSION:2.0
PRODID:-//S.A.G.E. Holistic Health and Wellness Center - ECPv6.15.20//NONSGML v1.0//EN
CALSCALE:GREGORIAN
METHOD:PUBLISH
X-WR-CALNAME:S.A.G.E. Holistic Health and Wellness Center
X-ORIGINAL-URL:https://sagewellnessctr.org
X-WR-CALDESC:Events for S.A.G.E. Holistic Health and Wellness Center
REFRESH-INTERVAL;VALUE=DURATION:PT1H
X-Robots-Tag:noindex
X-PUBLISHED-TTL:PT1H
BEGIN:VTIMEZONE
TZID:America/Los_Angeles
BEGIN:DAYLIGHT
TZOFFSETFROM:-0800
TZOFFSETTO:-0700
TZNAME:PDT
DTSTART:20210314T100000
END:DAYLIGHT
BEGIN:STANDARD
TZOFFSETFROM:-0700
TZOFFSETTO:-0800
TZNAME:PST
DTSTART:20211107T090000
END:STANDARD
BEGIN:DAYLIGHT
TZOFFSETFROM:-0800
TZOFFSETTO:-0700
TZNAME:PDT
DTSTART:20220313T100000
END:DAYLIGHT
BEGIN:STANDARD
TZOFFSETFROM:-0700
TZOFFSETTO:-0800
TZNAME:PST
DTSTART:20221106T090000
END:STANDARD
BEGIN:DAYLIGHT
TZOFFSETFROM:-0800
TZOFFSETTO:-0700
TZNAME:PDT
DTSTART:20230312T100000
END:DAYLIGHT
BEGIN:STANDARD
TZOFFSETFROM:-0700
TZOFFSETTO:-0800
TZNAME:PST
DTSTART:20231105T090000
END:STANDARD
END:VTIMEZONE
BEGIN:VEVENT
DTSTART;TZID=America/Los_Angeles:20220925T090000
DTEND;TZID=America/Los_Angeles:20220925T160000
DTSTAMP:20260422T072050
CREATED:20220822T224524Z
LAST-MODIFIED:20220919T222715Z
UID:5099-1664096400-1664121600@sagewellnessctr.org
SUMMARY:Reiki Level 2 Training + Certification Course
DESCRIPTION:REIKI 2 CLASS OBJECTIVES: \n\n\n\nDuring this 1-time workshop\, you will: \n\n\n\nIncrease your ability to channel Reiki energy by 80%  \n\n\n\nLearn and be attuned to 3 new Reiki symbols that focus on:  \n\n\n\nMental healing  \n\n\n\nEmotional healing  \n\n\n\nIssues from earlier in this lifetime or past life healing  \n\n\n\nLearn and be attuned to the Reiki symbol that allows you to conduct healings from a distance and across time (both past and future)  \n\n\n\nPractice using your new symbols during healing sessions  \n\n\n\nLearn several healing and non-healing techniques that utilize Reiki energy\, including . . .  \n\n\n\nQuick self healing technique (“Reiki Un-do”)  \n\n\n\nTreating headaches  \n\n\n\nQuick chair treatments  \n\n\n\nProgrammed healings  \n\n\n\nClearing and protecting spaces  \n\n\n\n \n\n\n\nREIKI 2 COURSE INCLUDES: \n\n\n\nProfessionally prepared 30-page manual.  \n\n\n\nIn-person instruction with time for questions.  \n\n\n\nAttunement to 2 Usui Reiki symbols and 2 non-traditional Reiki symbols.  \n\n\n\nTime to practice your new skills.  \n\n\n\nA “Certificate of Completion” verifying that you are a Reiki II Practitioner. \n\n\n\nDirections/Special instructions:  \n\n\n\n \n\n\n\nOFFICE LOCATION + COVID PROCEDURES \n\n\n\n14081 Yorba Street\, Suite 105\, Tustin\, CA 92780 \n\n\n\nThe office is conveniently located in Tustin right off the 55 freeway on 17th Street. You’ll find us in the Enderle Center directly across the street from the bright red restaurant “Crab Cooker”.  S.A.G.E. office is located on the ground floor. Ample parking is available on either side of our building.  \n\n\n\nWhen you arrive\, you will notice a small remote with our company directory on the wall straight ahead.  Look for your practitioner’s name and press the button on the remote corresponding with their office number to notify them that you have arrived; they will be with you shortly. \n\n\n\nDue to ongoing Covid-19 we will be providing current guidelines at the time of your class to ensure the health and safety of all of S.A.G.E.’s patrons. \n\n\n\nREFUND POLICY: \n\n\n\nNo refunds will be issues if canceling less than 72 hours prior to the event. Please review our Refund/Cancellation Policy for classes/events with any further questions.  \n\n\n\nDISCLAIMER: \n\n\n\nS.A.G.E Holistic Health and Wellness Center\, associates\, coordinators\, volunteers\, employees\, and any other affiliates do not take responsibility for any harm\, bodily injury\, accidents\, or damage to personal property. By “Booking” your spot or by “RSVP”ing or attending\, you are confirming that you understand that all activities such as Yoga\, meditation\, Martial Arts\, Self Defense\, hiking\, and Reiki\, Group Therapy\, etc. have an associated risk\, and will not hold any S.A.G.E Holistic Health and Wellness Center\, associates\, coordinators\, volunteers\, employees\, and any other affiliates responsible for any hazard to your well-being. Additionally\, you will not be allowed to participate with the group if you are not adequately prepared with enough water\, the right gear\, equipment\, and/or nutrition essential to complete the event. \n\n\n\nPHOTO/VIDEO CONSENT WAIVER: \n\n\n\nBy Attending our event you grant permission to S.A.G.E Holistic Health and Wellness Center to use photographs and/ or video taken of you during this event for use in publications\, website\, and other forms of media without notifying you. You hereby waive any right to inspect or approve the finished photographs or printed electronic matter that may be used in conjunction with them now or in the future\, whether that use is known to you or unknown\, and you waive any right to royalties or other compensation arising from or related to the use of the photograph(s) and/ or video. 
URL:https://sagewellnessctr.org/event/reiki-level-2-training-certification-course-5/
LOCATION:14081 Yorba Street\, Suite 105\, Tustin\, CA 92780
END:VEVENT
BEGIN:VEVENT
DTSTART;TZID=America/Los_Angeles:20220925T183000
DTEND;TZID=America/Los_Angeles:20220925T203000
DTSTAMP:20260422T072050
CREATED:20220830T211209Z
LAST-MODIFIED:20220830T211213Z
UID:5128-1664130600-1664137800@sagewellnessctr.org
SUMMARY:S.A.G.E. Smudge + Guided Meditation + Reiki
DESCRIPTION:Join us for this fun event– an evening of relaxation and de-stressing as we set our intention for the week. The evening begins with a ceremonial S.A.G.E. smudge to clear away any stagnant or “negative” energies\, followed by a guided chakra (energy center) meditation and Reiki healing. Whether you meditate on the regular or just beginning\, this evening is designed to bring in the positive to your life and let go of what does not serve you any longer. \n\n\n\nVirtual event is free but you must register \n\n\n\nhttps://www.traumainst.org/eventsandtrainings/sage-wellness-live-virtual-reiki-healing-1 \n\n\n\nInstructor:  Emily Celis\, M.S.\, LMFT\, Reiki Master  \n\n\n\nSpecial Information: Show up comfortable and with your screen on. Bring a candle\, incense\, sage bundle or palo santo if you wish to start off the evening.
URL:https://sagewellnessctr.org/event/s-a-g-e-smudge-guided-meditation-reiki-3/
END:VEVENT
END:VCALENDAR