BEGIN:VCALENDAR
VERSION:2.0
PRODID:-//S.A.G.E. Holistic Health and Wellness Center - ECPv6.15.20//NONSGML v1.0//EN
CALSCALE:GREGORIAN
METHOD:PUBLISH
X-WR-CALNAME:S.A.G.E. Holistic Health and Wellness Center
X-ORIGINAL-URL:https://sagewellnessctr.org
X-WR-CALDESC:Events for S.A.G.E. Holistic Health and Wellness Center
REFRESH-INTERVAL;VALUE=DURATION:PT1H
X-Robots-Tag:noindex
X-PUBLISHED-TTL:PT1H
BEGIN:VTIMEZONE
TZID:America/Los_Angeles
BEGIN:DAYLIGHT
TZOFFSETFROM:-0800
TZOFFSETTO:-0700
TZNAME:PDT
DTSTART:20210314T100000
END:DAYLIGHT
BEGIN:STANDARD
TZOFFSETFROM:-0700
TZOFFSETTO:-0800
TZNAME:PST
DTSTART:20211107T090000
END:STANDARD
BEGIN:DAYLIGHT
TZOFFSETFROM:-0800
TZOFFSETTO:-0700
TZNAME:PDT
DTSTART:20220313T100000
END:DAYLIGHT
BEGIN:STANDARD
TZOFFSETFROM:-0700
TZOFFSETTO:-0800
TZNAME:PST
DTSTART:20221106T090000
END:STANDARD
BEGIN:DAYLIGHT
TZOFFSETFROM:-0800
TZOFFSETTO:-0700
TZNAME:PDT
DTSTART:20230312T100000
END:DAYLIGHT
BEGIN:STANDARD
TZOFFSETFROM:-0700
TZOFFSETTO:-0800
TZNAME:PST
DTSTART:20231105T090000
END:STANDARD
END:VTIMEZONE
BEGIN:VEVENT
DTSTART;TZID=America/Los_Angeles:20220720T090000
DTEND;TZID=America/Los_Angeles:20220720T110000
DTSTAMP:20260422T095406
CREATED:20220615T013029Z
LAST-MODIFIED:20220615T013029Z
UID:4887-1658307600-1658314800@sagewellnessctr.org
SUMMARY:HHOC July Gathering
DESCRIPTION:Location: The Original Pancake House (same as last time) \nJoin us for the monthly gathering of the Holistic Healers of OC.  \n*Special event* We have a teamed up duo of Dr. Francesca Po\, expert in Astrology & the Enneagram\, and Matt Bruce\, expert in Tarot & Numerology\, who will be presenting “Archetypes as Guides: Using the Modalities of the Enneagram\, Tarot\, Numerology\, and Astrology”. You won’t want to miss this! \nWhat do we do? \n\nFun networking activity\nMember Presentations\nAnnouncements for your business\n\nHHOC is your favorite Orange County hangout and we love connecting healers and helpers with each other; you’ll also learn about different holistic-minded healing modalities and also be able to share what’s going on with your business. \nCan’t wait to see you there! \nThis event is for HHOC members only. Please enquire at hhoc@sagewellnessctr.org if you need to get connected\, or join this S.A.G.E. program by clicking HERE. \n  \nDISCLAIMER:S.A.G.E Holistic Health and Wellness Center\, associates\, coordinators\, volunteers\, employees\, and any other affiliates do not take responsibility for any harm\, bodily injury\, accidents\, or damage to personal property. By “Booking” your spot or by “RSVP”ing or attending\, you are confirming that you understand that all activities such as Yoga\, meditation\, Martial Arts\, Self Defense\, hiking\, and Reiki\, Group Therapy\, etc. have an associated risk\, and will not hold any S.A.G.E Holistic Health and Wellness Center\, associates\, coordinators\, volunteers\, employees\, and any other affiliates responsible for any hazard to your well-being. Additionally\, you will not be allowed to participate with the group if you are not adequately prepared with enough water\, the right gear\, equipment\, and/or nutrition essential to complete the event. \n  \nPHOTO/VIDEO CONSENT WAIVER: \nBy Attending our event you grant permission to S.A.G.E Holistic Health and Wellness Center to use photographs and/ or video taken of you during this event for use in publications\, website\, and other forms of media without notifying you. You hereby waive any right to inspect or approve the finished photographs or printed electronic matter that may be used in conjunction with them now or in the future\, whether that use is known to you or unknown\, and you waive any right to royalties or other compensation arising from or related to the use of the photograph(s) and/ or video. 
URL:https://sagewellnessctr.org/event/hhoc-july-gathering/
LOCATION:The Original Pancake House\, 3322 E Chapman Ave\, Orange\, CA\, 92869
ORGANIZER;CN="SAGE Holistic Health and Wellness":MAILTO:info@sagewellnessctr.org
END:VEVENT
END:VCALENDAR