BEGIN:VCALENDAR
VERSION:2.0
PRODID:-//S.A.G.E. Holistic Health and Wellness Center - ECPv6.15.20//NONSGML v1.0//EN
CALSCALE:GREGORIAN
METHOD:PUBLISH
X-ORIGINAL-URL:https://sagewellnessctr.org
X-WR-CALDESC:Events for S.A.G.E. Holistic Health and Wellness Center
REFRESH-INTERVAL;VALUE=DURATION:PT1H
X-Robots-Tag:noindex
X-PUBLISHED-TTL:PT1H
BEGIN:VTIMEZONE
TZID:America/Los_Angeles
BEGIN:DAYLIGHT
TZOFFSETFROM:-0800
TZOFFSETTO:-0700
TZNAME:PDT
DTSTART:20210314T100000
END:DAYLIGHT
BEGIN:STANDARD
TZOFFSETFROM:-0700
TZOFFSETTO:-0800
TZNAME:PST
DTSTART:20211107T090000
END:STANDARD
BEGIN:DAYLIGHT
TZOFFSETFROM:-0800
TZOFFSETTO:-0700
TZNAME:PDT
DTSTART:20220313T100000
END:DAYLIGHT
BEGIN:STANDARD
TZOFFSETFROM:-0700
TZOFFSETTO:-0800
TZNAME:PST
DTSTART:20221106T090000
END:STANDARD
BEGIN:DAYLIGHT
TZOFFSETFROM:-0800
TZOFFSETTO:-0700
TZNAME:PDT
DTSTART:20230312T100000
END:DAYLIGHT
BEGIN:STANDARD
TZOFFSETFROM:-0700
TZOFFSETTO:-0800
TZNAME:PST
DTSTART:20231105T090000
END:STANDARD
END:VTIMEZONE
BEGIN:VEVENT
DTSTART;TZID=America/Los_Angeles:20220626T090000
DTEND;TZID=America/Los_Angeles:20220626T160000
DTSTAMP:20260422T111646
CREATED:20220315T221017Z
LAST-MODIFIED:20220530T035300Z
UID:4493-1656234000-1656259200@sagewellnessctr.org
SUMMARY:Reiki Level 2 Training + Certification Course
DESCRIPTION:REIKI 2 CLASS OBJECTIVES: During this 1-time workshop\, you will: \n\nIncrease your ability to channel Reiki energy by 80% \nLearn and be attuned to 3 new Reiki symbols that focus on: \n\n\nMental healing \nEmotional healing \nIssues from earlier in this lifetime or past life healing \n\n\nLearn and be attuned to the Reiki symbol that allows you to conduct healings from a distance and across time (both past and future) \nPractice using your new symbols during healing sessions \nLearn several healing and non-healing techniques that utilize Reiki energy\, including . . . \n\n\nQuick self healing technique (“Reiki Un-do”) \nTreating headaches \nQuick chair treatments \nProgrammed healings \nClearing and protecting spaces \n\n  REIKI 2 COURSE INCLUDES: \n\nProfessionally prepared 30-page manual. \nIn-person instruction with time for questions. \nAttunement to 2 Usui Reiki symbols and 2 non-traditional Reiki symbols. \nTime to practice your new skills. \nA “Certificate of Completion” verifying that you are a Reiki II Practitioner. \n\n  The cost of this class is $295; payable by cash\, check\, or credit card prior to the start of class.  Pre-requisite:  Reiki Level 1 Training + Certification Course by S.A.G.E. Holistic Health & Wellness Center  (NOTE:  If you have taken Reiki Level 1 from another Reiki Master|Teacher\, speak to Emily Celis to discuss.) Directions/Special instructions: will be sent after registration and one week prior to the start of class Due to ongoing Covid-19 we will be providing current guidelines at the time of your class to ensure the health and safety of all of S.A.G.E.’s patrons.  DISCLAIMER: S.A.G.E Holistic Health and Wellness Center\, associates\, coordinators\, volunteers\, employees\, and any other affiliates do not take responsibility for any harm\, bodily injury\, accidents\, or damage to personal property. By “Booking” your spot or by “RSVP”ing or attending the hike\, you are confirming that you understand that all activities such as Yoga\, meditation\, Martial Arts\, Self Defense\, hiking\, and Reiki have an associated risk\, and will not hold any S.A.G.E Holistic Health and Wellness Center\, associates\, coordinators\, volunteers\, employees\, and any other affiliates responsible for any hazard to your well-being. Additionally\, you will not be allowed to participate with the group if you are not adequately prepared with enough water\, the right gear\, equipment\, and/or nutrition essential to complete the event.  PHOTO/VIDEO CONSENT WAIVER: By Attending our event you grant permission to S.A.G.E Holistic Health and Wellness Center to use photographs and/ or video taken of you during this event for use in publications\, website\, and other forms of media without notifying you. You hereby waive any right to inspect or approve the finished photographs or printed electronic matter that may be used in conjunction with them now or in the future\, whether that use is known to you or unknown\, and you waive any right to royalties or other compensation arising from or related to the use of the photograph(s) and/ or video.
URL:https://sagewellnessctr.org/event/reiki-level-2-training-certification-course-4/
LOCATION:14081 Yorba Street\, Suite 105\, Tustin\, CA 92780
ORGANIZER;CN="SAGE Holistic Health and Wellness":MAILTO:info@sagewellnessctr.org
END:VEVENT
BEGIN:VEVENT
DTSTART;TZID=America/Los_Angeles:20220626T183000
DTEND;TZID=America/Los_Angeles:20220626T200000
DTSTAMP:20260422T111646
CREATED:20220125T053304Z
LAST-MODIFIED:20220530T035542Z
UID:4269-1656268200-1656273600@sagewellnessctr.org
SUMMARY:S.A.G.E. Smudge\, Chakra Meditation & Reiki Healing:7-chakra series
DESCRIPTION:Have you ever heard of a sage smudge\, chakras or Reiki? We have combined these 3 powerful tools together in this ever-popular and mind-changing event on the last Sunday of each month as a way to step into that new month ahead with stillness and centered focus on your side. We invite you to join Emily Celis\, Founder\, LMFT + Reiki Master|Teacher for a 7-month in depth study and Reiki healing experience of the 7 major chakras.  Sunday\, June 26th\, from 6:30-8:00pm\, we will study the Third Eye Chakra. You will be guided through a teaching portion\, chakra meditation and group Reiki healing session with a crystal singing bowl tuned to that chakra for even deeper relaxation and healing energy.  What is the third eye chakra all about? Our 3rd eye chakra is the 6th chakra and is located in the center of our forehead. It can be represented with either an image of an eye or the color indigo and is connected to our personal intuition\, understanding of our minds and psyche\, our inner wisdom\, sensing what you need in your own life and following your own guidance. This class will bring focus to this energy center and we will do the work to bring more balance to this chakra and release anything that is no longer serving you. This class is for you if you are ready to more fully understand yourself\, step into more self love\, care and healing\, uplevel your life\, heal and step into that best version of you. Seating will be limited so there will be enough space for us to spread out and sit in circle with each other; you are welcome to bring a yoga mat or blanket to get comfortable. We will have folding chairs available.   Directions/Special instructions:  OFFICE LOCATION + COVID PROCEDURES 14081 Yorba Street\, Suite 105\, Tustin\, CA 92780 The office is conveniently located in Tustin right off the 55 freeway on 17th Street. You’ll find us in the Enderle Center directly across the street from the bright red restaurant “Crab Cooker”.  S.A.G.E. office is located on the ground floor. Ample parking is available on either side of our building.  When you arrive\, check our Suite 105 for location of class which will either be in the suite next door or upstairs in the conference room.  Due to ongoing Covid-19 we will be providing current guidelines at the time of your class to ensure the health and safety of all of S.A.G.E.’s patrons. DISCLAIMER: S.A.G.E Holistic Health and Wellness Center\, associates\, coordinators\, volunteers\, employees\, and any other affiliates do not take responsibility for any harm\, bodily injury\, accidents\, or damage to personal property. By “Booking” your spot or by “RSVP”ing or attending\, you are confirming that you understand that all activities such as Yoga\, meditation\, Martial Arts\, Self Defense\, hiking\, and Reiki\, Group Therapy\, etc. have an associated risk\, and will not hold any S.A.G.E Holistic Health and Wellness Center\, associates\, coordinators\, volunteers\, employees\, and any other affiliates responsible for any hazard to your well-being. Additionally\, you will not be allowed to participate with the group if you are not adequately prepared with enough water\, the right gear\, equipment\, and/or nutrition essential to complete the event. PHOTO/VIDEO CONSENT WAIVER: By Attending our event you grant permission to S.A.G.E Holistic Health and Wellness Center to use photographs and/ or video taken of you during this event for use in publications\, website\, and other forms of media without notifying you. You hereby waive any right to inspect or approve the finished photographs or printed electronic matter that may be used in conjunction with them now or in the future\, whether that use is known to you or unknown\, and you waive any right to royalties or other compensation arising from or related to the use of the photograph(s) and/ or video. 
URL:https://sagewellnessctr.org/event/s-a-g-e-smudge-chakra-meditation-reiki-healing7-chakra-series-5/
LOCATION:S.A.G.E. Holistic Health & Wellness Center
ORGANIZER;CN="SAGE Holistic Health and Wellness":MAILTO:info@sagewellnessctr.org
END:VEVENT
END:VCALENDAR