BEGIN:VCALENDAR
VERSION:2.0
PRODID:-//S.A.G.E. Holistic Health and Wellness Center - ECPv6.15.20//NONSGML v1.0//EN
CALSCALE:GREGORIAN
METHOD:PUBLISH
X-ORIGINAL-URL:https://sagewellnessctr.org
X-WR-CALDESC:Events for S.A.G.E. Holistic Health and Wellness Center
REFRESH-INTERVAL;VALUE=DURATION:PT1H
X-Robots-Tag:noindex
X-PUBLISHED-TTL:PT1H
BEGIN:VTIMEZONE
TZID:America/Los_Angeles
BEGIN:DAYLIGHT
TZOFFSETFROM:-0800
TZOFFSETTO:-0700
TZNAME:PDT
DTSTART:20210314T100000
END:DAYLIGHT
BEGIN:STANDARD
TZOFFSETFROM:-0700
TZOFFSETTO:-0800
TZNAME:PST
DTSTART:20211107T090000
END:STANDARD
BEGIN:DAYLIGHT
TZOFFSETFROM:-0800
TZOFFSETTO:-0700
TZNAME:PDT
DTSTART:20220313T100000
END:DAYLIGHT
BEGIN:STANDARD
TZOFFSETFROM:-0700
TZOFFSETTO:-0800
TZNAME:PST
DTSTART:20221106T090000
END:STANDARD
BEGIN:DAYLIGHT
TZOFFSETFROM:-0800
TZOFFSETTO:-0700
TZNAME:PDT
DTSTART:20230312T100000
END:DAYLIGHT
BEGIN:STANDARD
TZOFFSETFROM:-0700
TZOFFSETTO:-0800
TZNAME:PST
DTSTART:20231105T090000
END:STANDARD
END:VTIMEZONE
BEGIN:VEVENT
DTSTART;TZID=America/Los_Angeles:20220327T090000
DTEND;TZID=America/Los_Angeles:20220327T163000
DTSTAMP:20260424T054457
CREATED:20220105T040521Z
LAST-MODIFIED:20220320T183648Z
UID:4135-1648371600-1648398600@sagewellnessctr.org
SUMMARY:Reiki Master|Training + Certification
DESCRIPTION:Today you will complete your learning as a Reiki Practitioner and step into the role of Reiki Master + Teacher.  In this final class of the Training Series\, you will not only learn how to pass down the sacred process of attuning others to the Reiki energy\, but you will also be given all the tools and manuals necessary to teach this beautiful healing art. \nWhat will be covered in class?\nReiki Master Class Objectives \nDuring this Reiki Master| Teacher Training + Certification Course\, you will be taught how to teach Reiki to others\, which includes learning the sacred symbols and processes used during Reiki attunements.  \nWhat Is Included in the Reiki Master Class \n\nPower-point presentation\, lecture and experiential learning process\nA professionally prepared 73-page manual.\nAttunement to 3 symbols used exclusively during the attunement process.  \n\nOne (1) Usui Reiki symbol\nTwo (2) non-traditional symbols that activate the 3rd eye of the student.  \nYou will also be re-attuned to all 9 previous practitioner-level symbols so they can be used during the attunement process.  \n\nThis includes 4 Usui Reiki symbols\, 2 Tibetan Reiki symbols\, and 3 non-traditional Reiki symbols.\n\n\n\n\nTime to practice “passing” attunements to others\nAccess to PDF manuals for you to use in teaching Reiki to others\nA “Certificate of Completion” verifying that you are a Reiki Master|Teacher\, which means that you are eligible to pass Reiki attunements to others\, if you choose to do so.\n\n  \nDISCLAIMER:\nS.A.G.E Holistic Health and Wellness Center\, associates\, coordinators\, volunteers\, employees\, and any other affiliates do not take responsibility for any harm\, bodily injury\, accidents\, or damage to personal property. By “Booking” your spot or by “RSVP”ing or attending the hike\, you are confirming that you understand that all activities such as Yoga\, meditation\, Martial Arts\, Self Defense\, hiking\, and Reiki have an associated risk\, and will not hold any S.A.G.E Holistic Health and Wellness Center\, associates\, coordinators\, volunteers\, employees\, and any other affiliates responsible for any hazard to your well-being. Additionally\, you will not be allowed to participate with the group if you are not adequately prepared with enough water\, the right gear\, equipment\, and/or nutrition essential to complete the event. \n\nPHOTO/VIDEO CONSENT WAIVER: \nBy Attending our event you grant permission to S.A.G.E Holistic Health and Wellness Center to use photographs and/ or video taken of you during this event for use in publications\, website\, and other forms of media without notifying you. You hereby waive any right to inspect or approve the finished photographs or printed electronic matter that may be used in conjunction with them now or in the future\, whether that use is known to you or unknown\, and you waive any right to royalties or other compensation arising from or related to the use of the photograph(s) and/ or video. 
URL:https://sagewellnessctr.org/event/reiki-mastertraining-certification/
LOCATION:14081 Yorba Street\, Suite 105\, Tustin\, CA 92780
ORGANIZER;CN="SAGE Holistic Health and Wellness":MAILTO:info@sagewellnessctr.org
END:VEVENT
BEGIN:VEVENT
DTSTART;TZID=America/Los_Angeles:20220327T160000
DTEND;TZID=America/Los_Angeles:20220327T170000
DTSTAMP:20260424T054457
CREATED:20220107T054023Z
LAST-MODIFIED:20220107T054023Z
UID:4212-1648396800-1648400400@sagewellnessctr.org
SUMMARY:Sahaja Yoga Meditation Class
DESCRIPTION:Imagine being able to awaken your spiritual energy and to experience and enjoy the many benefits of meditation almost immediately. Sahaja Meditation\, while sharing many of the fundamentals of traditional meditation techniques\, is unique because of how quickly it can help you achieve self-awareness. \nJoin us (virtually) every Sunday at 4pm PST for this class hosted by Preeti of Sahaja Yoga. \nYou will be emailed the link to join after you register for the class.
URL:https://sagewellnessctr.org/event/sahaja-yoga-meditation-class-26/
LOCATION:Online Class via Zoom
ORGANIZER;CN="SAGE Holistic Health and Wellness":MAILTO:info@sagewellnessctr.org
END:VEVENT
BEGIN:VEVENT
DTSTART;TZID=America/Los_Angeles:20220327T183000
DTEND;TZID=America/Los_Angeles:20220327T200000
DTSTAMP:20260424T054457
CREATED:20220106T084553Z
LAST-MODIFIED:20220312T121938Z
UID:4163-1648405800-1648411200@sagewellnessctr.org
SUMMARY:S.A.G.E. Smudge\, Chakra Meditation & Reiki Healing:7-chakra series
DESCRIPTION:Have you ever heard of a sage smudge\, chakras or Reiki? We have combined these 3 powerful tools together in this ever-popular and mind-changing event on the last Sunday of each month as a way to step into that new month ahead with stillness and centered focus on your side. \nWe invite you to join Emily Celis\, Founder\, LMFT + Reiki Master|Teacher for a 7-month in depth study and Reiki healing experience of the 7 major chakras.  \nSunday\, March 27th\, from 6:30-8:00pm\, we will study the Solar Plexus Chakra. You will be guided through a teaching portion\, chakra meditation and group Reiki healing session with a crystal singing bowl tuned to that chakra for even deeper relaxation and healing energy.  \nWhat is the solar plexus chakra all about? \nOur solar plexus chakra is the 3rd chakra and is located in the center of your body. It can be represented with the color yellow and is connected to our personal power\, balance in life\, self-esteem\, and belief in ourselves. \nThis class will bring focus to this energy center and we will do the work to bring more balance to this chakra and release anything that is no longer serving you. \nThis class is for you if you are ready to more fully understand yourself\, step into more self love\, care and healing\, uplevel your life\, heal and step into that best version of you. \nSeating will be limited so there will be enough space for us to spread out and sit in circle with each other; you are welcome to bring a yoga mat or blanket to get comfortable. We will have folding chairs available. \n  \nDirections/Special instructions:  \nOFFICE LOCATION + COVID PROCEDURES\n14081 Yorba Street\, Suite 105\, Tustin\, CA 92780 \nThe office is conveniently located in Tustin right off the 55 freeway on 17th Street. You’ll find us in the Enderle Center directly across the street from the bright red restaurant “Crab Cooker”.  S.A.G.E. office is located on the ground floor. Ample parking is available on either side of our building.  \nWhen you arrive\, check our Suite 105 for location of class which will either be in the suite next door or upstairs in the conference room.  \nDue to the continuing global pandemic and to ensure the health and safety of all of our clients\, you are required to wear a face mask to our office. \nOnce seated in the classroom\, your instructor will discuss mask-wearing guidelines. As you know\, there are many different opinions about the pandemic\, and here at S.A.G.E.\, we do not discriminate against anybody’s beliefs\, however\, we do need to adhere to these policies and protect our community at large in accordance to the guidelines provided to us by city\, state and government officials. \nDISCLAIMER:\nS.A.G.E Holistic Health and Wellness Center\, associates\, coordinators\, volunteers\, employees\, and any other affiliates do not take responsibility for any harm\, bodily injury\, accidents\, or damage to personal property. By “Booking” your spot or by “RSVP”ing or attending\, you are confirming that you understand that all activities such as Yoga\, meditation\, Martial Arts\, Self Defense\, hiking\, and Reiki\, Group Therapy\, etc. have an associated risk\, and will not hold any S.A.G.E Holistic Health and Wellness Center\, associates\, coordinators\, volunteers\, employees\, and any other affiliates responsible for any hazard to your well-being. Additionally\, you will not be allowed to participate with the group if you are not adequately prepared with enough water\, the right gear\, equipment\, and/or nutrition essential to complete the event. \nPHOTO/VIDEO CONSENT WAIVER: \nBy Attending our event you grant permission to S.A.G.E Holistic Health and Wellness Center to use photographs and/ or video taken of you during this event for use in publications\, website\, and other forms of media without notifying you. You hereby waive any right to inspect or approve the finished photographs or printed electronic matter that may be used in conjunction with them now or in the future\, whether that use is known to you or unknown\, and you waive any right to royalties or other compensation arising from or related to the use of the photograph(s) and/ or video. 
URL:https://sagewellnessctr.org/event/s-a-g-e-smudge-chakra-meditation-reiki-healing7-chakra-series-2/
LOCATION:S.A.G.E. Holistic Health & Wellness Center
ORGANIZER;CN="SAGE Holistic Health and Wellness":MAILTO:info@sagewellnessctr.org
END:VEVENT
END:VCALENDAR