BEGIN:VCALENDAR
VERSION:2.0
PRODID:-//S.A.G.E. Holistic Health and Wellness Center - ECPv6.15.20//NONSGML v1.0//EN
CALSCALE:GREGORIAN
METHOD:PUBLISH
X-WR-CALNAME:S.A.G.E. Holistic Health and Wellness Center
X-ORIGINAL-URL:https://sagewellnessctr.org
X-WR-CALDESC:Events for S.A.G.E. Holistic Health and Wellness Center
REFRESH-INTERVAL;VALUE=DURATION:PT1H
X-Robots-Tag:noindex
X-PUBLISHED-TTL:PT1H
BEGIN:VTIMEZONE
TZID:America/Los_Angeles
BEGIN:DAYLIGHT
TZOFFSETFROM:-0800
TZOFFSETTO:-0700
TZNAME:PDT
DTSTART:20210314T100000
END:DAYLIGHT
BEGIN:STANDARD
TZOFFSETFROM:-0700
TZOFFSETTO:-0800
TZNAME:PST
DTSTART:20211107T090000
END:STANDARD
BEGIN:DAYLIGHT
TZOFFSETFROM:-0800
TZOFFSETTO:-0700
TZNAME:PDT
DTSTART:20220313T100000
END:DAYLIGHT
BEGIN:STANDARD
TZOFFSETFROM:-0700
TZOFFSETTO:-0800
TZNAME:PST
DTSTART:20221106T090000
END:STANDARD
BEGIN:DAYLIGHT
TZOFFSETFROM:-0800
TZOFFSETTO:-0700
TZNAME:PDT
DTSTART:20230312T100000
END:DAYLIGHT
BEGIN:STANDARD
TZOFFSETFROM:-0700
TZOFFSETTO:-0800
TZNAME:PST
DTSTART:20231105T090000
END:STANDARD
END:VTIMEZONE
BEGIN:VEVENT
DTSTART;TZID=America/Los_Angeles:20220119T090000
DTEND;TZID=America/Los_Angeles:20220119T110000
DTSTAMP:20260424T081133
CREATED:20211231T033618Z
LAST-MODIFIED:20220318T193220Z
UID:4113-1642582800-1642590000@sagewellnessctr.org
SUMMARY:January Holistic Healers of OC Gathering
DESCRIPTION:January’s meeting will be held in-person at one of our members homes and seating will be limited to 30 people. Breakfast and beverages will be served. \n*A note about Covid. One of our HHOC members\, Joann Kenyon\, is our gracious host and we consulted with her about her preference as well as how we feel we can best keep our members safe and healthy. Here are the guidelines for our in-person event this January. \n\nIf you have any symptoms of illness\, please do not attend\nIf you have been exposed to someone with a positive Covid test within the last 7 days\, please do not attend\nMasks are not required for this event\, however\, you are welcome to wear one during the event. We encourage you to do what feels best for you and we work hard to create an environment where your personal choice is always respected.\nWe will have a Health Crisis Waiver for you to sign at the event\n\nOk. ‘nuff said. \nHere’s the Agenda: \n– Speed Networking: small group chats to connect with your OC healing commUNITY. \n– 20 Minute Presentations by two holistic healers + Q&As. \n– Group announcements: we share HHOC announcements + upcoming presenters \n– Announcements: you share briefly events\, offering\, resources\, or services for the OC commUNITY. \nYour January Member Presenters: \n\nJoann Bryan Kenyon on “The Science and Theory of Breathwork”\nJodie Shea on “Sex\, Kinks and Shrinks\, Oh My!”\n\nJoin us for connection\, learning and collaboration. This is your GO-TO group for holistic professionals to build their referrals and learn about other healing modalities. We are an abundance minded\, heart-centered group and each month we gather to network and collaborate\, learn from two member presentations and share announcements about our businesses and offerings. We are a service-based group (this group is not for product sales) and we aim to build the community stronger with these healing connections. \n  \n  \nDISCLAIMER:\nS.A.G.E Holistic Health and Wellness Center\, associates\, coordinators\, volunteers\, employees\, and any other affiliates do not take responsibility for any harm\, bodily injury\, accidents\, or damage to personal property. By “Booking” your spot or by “RSVP”ing or attending\, you are confirming that you understand that all activities such as Yoga\, meditation\, Martial Arts\, Self Defense\, hiking\, and Reiki\, Group Therapy\, etc. have an associated risk\, and will not hold any S.A.G.E Holistic Health and Wellness Center\, associates\, coordinators\, volunteers\, employees\, and any other affiliates responsible for any hazard to your well-being. Additionally\, you will not be allowed to participate with the group if you are not adequately prepared with enough water\, the right gear\, equipment\, and/or nutrition essential to complete the event. \nPHOTO/VIDEO CONSENT WAIVER: \nBy Attending our event you grant permission to S.A.G.E Holistic Health and Wellness Center to use photographs and/ or video taken of you during this event for use in publications\, website\, and other forms of media without notifying you. You hereby waive any right to inspect or approve the finished photographs or printed electronic matter that may be used in conjunction with them now or in the future\, whether that use is known to you or unknown\, and you waive any right to royalties or other compensation arising from or related to the use of the photograph(s) and/ or video. 
URL:https://sagewellnessctr.org/event/january-holistic-healers-of-oc-gathering/
LOCATION:S.A.G.E. Holistic Health & Wellness Center
ORGANIZER;CN="SAGE Holistic Health and Wellness":MAILTO:info@sagewellnessctr.org
END:VEVENT
END:VCALENDAR