BEGIN:VCALENDAR
VERSION:2.0
PRODID:-//S.A.G.E. Holistic Health and Wellness Center - ECPv6.15.20//NONSGML v1.0//EN
CALSCALE:GREGORIAN
METHOD:PUBLISH
X-WR-CALNAME:S.A.G.E. Holistic Health and Wellness Center
X-ORIGINAL-URL:https://sagewellnessctr.org
X-WR-CALDESC:Events for S.A.G.E. Holistic Health and Wellness Center
REFRESH-INTERVAL;VALUE=DURATION:PT1H
X-Robots-Tag:noindex
X-PUBLISHED-TTL:PT1H
BEGIN:VTIMEZONE
TZID:America/Los_Angeles
BEGIN:DAYLIGHT
TZOFFSETFROM:-0800
TZOFFSETTO:-0700
TZNAME:PDT
DTSTART:20200308T100000
END:DAYLIGHT
BEGIN:STANDARD
TZOFFSETFROM:-0700
TZOFFSETTO:-0800
TZNAME:PST
DTSTART:20201101T090000
END:STANDARD
BEGIN:DAYLIGHT
TZOFFSETFROM:-0800
TZOFFSETTO:-0700
TZNAME:PDT
DTSTART:20210314T100000
END:DAYLIGHT
BEGIN:STANDARD
TZOFFSETFROM:-0700
TZOFFSETTO:-0800
TZNAME:PST
DTSTART:20211107T090000
END:STANDARD
BEGIN:DAYLIGHT
TZOFFSETFROM:-0800
TZOFFSETTO:-0700
TZNAME:PDT
DTSTART:20220313T100000
END:DAYLIGHT
BEGIN:STANDARD
TZOFFSETFROM:-0700
TZOFFSETTO:-0800
TZNAME:PST
DTSTART:20221106T090000
END:STANDARD
END:VTIMEZONE
BEGIN:VEVENT
DTSTART;TZID=America/Los_Angeles:20211205T090000
DTEND;TZID=America/Los_Angeles:20211205T163000
DTSTAMP:20260424T094805
CREATED:20210826T040752Z
LAST-MODIFIED:20210904T090425Z
UID:3572-1638694800-1638721800@sagewellnessctr.org
SUMMARY:Reiki Level 3 | Advanced Reiki Training {ART}
DESCRIPTION:REIKI Level 3 | Advanced Reiki Training {ART} CLASS OBJECTIVES: \nThis Training Course is divided into 2 sections: 1) Reiki Level 3\, and 2) Advanced Reiki Training {ART}. \nREIKI Level 3 COURSE OBJECTIVES: \nDuring the Reiki Level 3 portion of the course\, you will: \n\nBe attuned to 4 new symbols that include learning information for:\n\n\nBalancing chakras\n2 symbols that assist in spiritual healing (e.g.\, healing your relationship with Spirit/God)\nAssisting souls who have died to easily cross to the Light\n\nADVANCED REIKI TRAINING {ART} COURSE OBJECTIVES: \nDuring this part of the Training Course\, you will be taught many different healing and non-healing techniques that utilize the healing Reiki energy.  These techniques include: \n\nHow to use a pendulum to assess the health of chakras (i.e.\, assessing whether chakras are balanced and clear of toxic energy?)\nUsing Reiki to:\n\n\nBalance and clear chakras\nConduct house cleansings/blessings\nManifest your desires\nCreate 4th dimensional grids to empower and protect                 objects/locations\nReiki meditation techniques that enhance your ability to be a clear channel of “life force energy”\n\nREIKI Level 3 | ADVANCED REIKI TRAINING {ART} INCLUDES: \n\nA professionally prepared 46-page manual.\nIn-person instruction and time for questions\nAttunement to one (1) Usui Reiki symbol\, two (2) Tibetan Reiki symbols\, and one (1) non-traditional Reiki symbol\nTime to practice your new skills (e.g.\, using a pendulum to assess the health and balance of chakras and then using a Reiki technique to work on any problems that are discovered).\nA “Certificate of Completion” verifying that you are a Reiki Level 3 Practitioner and have participated in an Advanced Reiki Training {ART} course.\n\n  \nPre-requisite:  Reiki Level 1 & 2\, Training + Certification Course by S.A.G.E. Holistic Health & Wellness Center  \n(NOTE:  If you have taken Reiki Level 1 & 2 from another Reiki Master|Teacher\, speak to Emily Celis prior to reserving your spot in class to discuss.) \nDISCLAIMER: \nS.A.G.E Holistic Health and Wellness Center\, associates\, coordinators\, volunteers\, employees\, and any other affiliates do not take responsibility for any harm\, bodily injury\, accidents\, or damage to personal property. By “Booking” your spot\, clicking “RSVP\,” or attending the hike\, you are confirming that you understand that all activities such as Yoga\, meditation\, Martial Arts\, Self Defense\, hiking\, and Reiki have an associated risk\, and will not hold any S.A.G.E Holistic Health and Wellness Center\, associates\, coordinators\, volunteers\, employees\, and any other affiliates responsible for any hazard to your well-being. Additionally\, you will not be allowed to participate with the group if you are not adequately prepared with enough water\, the right gear\, equipment\, and/or nutrition essential to complete the event. \n\nPHOTO/VIDEO CONSENT WAIVER: \nBy Attending our event you grant permission to S.A.G.E Holistic Health and Wellness Center to use photographs and/ or video taken of you during this event for use in publications\, website\, and other forms of media without notifying you. You hereby waive any right to inspect or approve the finished photographs or printed electronic matter that may be used in conjunction with them now or in the future\, whether that use is known to you or unknown\, and you waive any right to royalties or other compensation arising from or related to the use of the photograph(s) and/ or video.
URL:https://sagewellnessctr.org/event/reiki-level-3-advanced-reiki-training-art/
LOCATION:14081 Yorba Street\, Suite 105\, Tustin\, CA 92780
ORGANIZER;CN="SAGE Holistic Health and Wellness":MAILTO:info@sagewellnessctr.org
END:VEVENT
BEGIN:VEVENT
DTSTART;TZID=America/Los_Angeles:20211205T160000
DTEND;TZID=America/Los_Angeles:20211205T170000
DTSTAMP:20260424T094805
CREATED:20210916T000825Z
LAST-MODIFIED:20210928T041321Z
UID:3781-1638720000-1638723600@sagewellnessctr.org
SUMMARY:Sahaja Yoga Meditation Class
DESCRIPTION:Imagine being able to awaken your spiritual energy and to experience and enjoy the many benefits of meditation almost immediately. Sahaja Meditation\, while sharing many of the fundamentals of traditional meditation techniques\, is unique because of how quickly it can help you achieve self-awareness. \nJoin us (virtually) every Sunday at 4pm PST for this class hosted by Preeti of Sahaja Yoga.
URL:https://sagewellnessctr.org/event/sahaja-yoga-meditation-class-14/
LOCATION:Online Class via Zoom
ORGANIZER;CN="SAGE Holistic Health and Wellness":MAILTO:info@sagewellnessctr.org
END:VEVENT
END:VCALENDAR