BEGIN:VCALENDAR
VERSION:2.0
PRODID:-//S.A.G.E. Holistic Health and Wellness Center - ECPv6.15.20//NONSGML v1.0//EN
CALSCALE:GREGORIAN
METHOD:PUBLISH
X-WR-CALNAME:S.A.G.E. Holistic Health and Wellness Center
X-ORIGINAL-URL:https://sagewellnessctr.org
X-WR-CALDESC:Events for S.A.G.E. Holistic Health and Wellness Center
REFRESH-INTERVAL;VALUE=DURATION:PT1H
X-Robots-Tag:noindex
X-PUBLISHED-TTL:PT1H
BEGIN:VTIMEZONE
TZID:UTC
BEGIN:STANDARD
TZOFFSETFROM:+0000
TZOFFSETTO:+0000
TZNAME:UTC
DTSTART:20200101T000000
END:STANDARD
END:VTIMEZONE
BEGIN:VTIMEZONE
TZID:America/Los_Angeles
BEGIN:DAYLIGHT
TZOFFSETFROM:-0800
TZOFFSETTO:-0700
TZNAME:PDT
DTSTART:20200308T100000
END:DAYLIGHT
BEGIN:STANDARD
TZOFFSETFROM:-0700
TZOFFSETTO:-0800
TZNAME:PST
DTSTART:20201101T090000
END:STANDARD
BEGIN:DAYLIGHT
TZOFFSETFROM:-0800
TZOFFSETTO:-0700
TZNAME:PDT
DTSTART:20210314T100000
END:DAYLIGHT
BEGIN:STANDARD
TZOFFSETFROM:-0700
TZOFFSETTO:-0800
TZNAME:PST
DTSTART:20211107T090000
END:STANDARD
BEGIN:DAYLIGHT
TZOFFSETFROM:-0800
TZOFFSETTO:-0700
TZNAME:PDT
DTSTART:20220313T100000
END:DAYLIGHT
BEGIN:STANDARD
TZOFFSETFROM:-0700
TZOFFSETTO:-0800
TZNAME:PST
DTSTART:20221106T090000
END:STANDARD
END:VTIMEZONE
BEGIN:VEVENT
DTSTART;TZID=UTC:20211010T090000
DTEND;TZID=UTC:20211010T163000
DTSTAMP:20260424T115138
CREATED:20210822T012654Z
LAST-MODIFIED:20210915T060139Z
UID:3515-1633856400-1633883400@sagewellnessctr.org
SUMMARY:Reiki Level 1 Training + Certification Course
DESCRIPTION:Get trained and certified in Reiki! Learn how to tap into your innate healing power\, deepen your spirituality and expand your intuition. After this first class you will be ready to conduct your own Reiki healing sessions and even begin working as a Certified Reiki Practitioner.  \n  \nREIKI 1 CLASS OBJECTIVES: During this 1-time workshop\, you will:  \n* Learn about what Reiki is\, how it is used\, and what it feels like  \n* Discuss how to protect yourself during healing sessions  \n* Explore Reiki’s guiding principles  \n* Learn about the history of Reiki  \n* Be taught how to conduct healing sessions  \n* Be attuned to 1 Reiki symbol\, which is used to turn on and turn off the flow of Reiki energy  \n* Receive your Reiki guide\, which is a spiritual helper on the other side who will assist you with your healings  \n* Practice using your new healing abilities  \nREIKI 1 COURSE INCLUDES:  \n* Professionally prepared 85-page manual  \n* In-person instruction with time for questions  \n* Attunement to 1 Reiki symbol  \n* Time to practice your new skills  \n* A “Certificate of Completion” verifying that you are a Reiki I Practitioner\, which makes you eligible to offer Reiki healing sessions to the public for a fee\, if you choose to do so. \n  \n————- \n  \nWhat is Reiki? Reiki is a form of “energetic” healing that works harmoniously with all other forms of treatment (e.g. medical\, psychological\, alternative\, etc.). Many philosophical/religious systems and even some branches of science now understand that there is an unseen energy that flows through all living things. This energy is believed to be around us all the time and is believed to be what creates and sustains life. The word Reiki is composed of two different Japanese words: “rei” is generally translated as “universal”\, “God”\, “soul”\, or “spiritual” and the word “ki” is translated as “energy” or “life force”. Therefore\, Reiki represents the “life force energy” and the source of that energy is spiritual. How does Reiki work? It is a simple and powerful healing technique that works to balance out the energy system of the body which often leads to improvements in health\, increased relaxation and improved wellbeing. If someone’s “life force energy” is low or blocked\, then they are more likely to become ill. If it is high and flowing smoothly through the body (i.e.\, through the meridians)\, then the person is more resilient to disease and is happier. The goal of balancing the person’s energy is similar to that of acupuncturists or acupressurists\, however\, with Reiki\, the Practitioner does not necessarily need to touch the body…it can be done either “hands on” or “hands off”. It does not require any special equipment or environment. \n  \nDISCLAIMER:\nS.A.G.E Holistic Health and Wellness Center\, associates\, coordinators\, volunteers\, employees\, and any other affiliates do not take responsibility for any harm\, bodily injury\, accidents\, or damage to personal property. By “Booking” your spot or by “RSVP”ing or attending the hike\, you are confirming that you understand that all activities such as Yoga\, meditation\, Martial Arts\, Self Defense\, hiking\, and Reiki have an associated risk\, and will not hold any S.A.G.E Holistic Health and Wellness Center\, associates\, coordinators\, volunteers\, employees\, and any other affiliates responsible for any hazard to your well-being. Additionally\, you will not be allowed to participate with the group if you are not adequately prepared with enough water\, the right gear\, equipment\, and/or nutrition essential to complete the event. \n\nPHOTO/VIDEO CONSENT WAIVER: \nBy Attending our event you grant permission to S.A.G.E Holistic Health and Wellness Center to use photographs and/ or video taken of you during this event for use in publications\, website\, and other forms of media without notifying you. You hereby waive any right to inspect or approve the finished photographs or printed electronic matter that may be used in conjunction with them now or in the future\, whether that use is known to you or unknown\, and you waive any right to royalties or other compensation arising from or related to the use of the photograph(s) and/ or video.
URL:https://sagewellnessctr.org/event/reiki-level-1-training-certification-course-2/
LOCATION:14081 Yorba Street\, Suite 105\, Tustin\, CA 92780
ORGANIZER;CN="SAGE Holistic Health and Wellness":MAILTO:info@sagewellnessctr.org
END:VEVENT
BEGIN:VEVENT
DTSTART;TZID=America/Los_Angeles:20211010T160000
DTEND;TZID=America/Los_Angeles:20211010T170000
DTSTAMP:20260424T115138
CREATED:20210915T003625Z
LAST-MODIFIED:20210928T040426Z
UID:3741-1633881600-1633885200@sagewellnessctr.org
SUMMARY:Sahaja Yoga Meditation Class
DESCRIPTION:Imagine being able to awaken your spiritual energy and to experience and enjoy the many benefits of meditation almost immediately. Sahaja Meditation\, while sharing many of the fundamentals of traditional meditation techniques\, is unique because of how quickly it can help you achieve self-awareness. \nJoin us (virtually) every Sunday at 4pm PST for this class hosted by Preeti of Sahaja Yoga.
URL:https://sagewellnessctr.org/event/sahaja-yoga-meditation-class-6/
LOCATION:Online Class via Zoom
ORGANIZER;CN="SAGE Holistic Health and Wellness":MAILTO:info@sagewellnessctr.org
END:VEVENT
END:VCALENDAR